BEGIN:VCALENDAR
VERSION:2.0
PRODID:-//CUNY Graduate School of Public Health &amp; Health Policy - ECPv4.9.9//NONSGML v1.0//EN
CALSCALE:GREGORIAN
METHOD:PUBLISH
X-ORIGINAL-URL:https://sph.cuny.edu
X-WR-CALDESC:Events for CUNY Graduate School of Public Health &amp; Health Policy
BEGIN:VTIMEZONE
TZID:America/New_York
BEGIN:DAYLIGHT
TZOFFSETFROM:-0500
TZOFFSETTO:-0400
TZNAME:EDT
DTSTART:20220313T070000
END:DAYLIGHT
BEGIN:STANDARD
TZOFFSETFROM:-0400
TZOFFSETTO:-0500
TZNAME:EST
DTSTART:20221106T060000
END:STANDARD
END:VTIMEZONE
BEGIN:VEVENT
DTSTART;TZID=America/New_York:20220728T120000
DTEND;TZID=America/New_York:20220728T130000
DTSTAMP:20260421T022339
CREATED:20220711T153905Z
LAST-MODIFIED:20220711T160759Z
UID:122327-1659009600-1659013200@sph.cuny.edu
SUMMARY:Winning the Job Interview
DESCRIPTION:Interviews can be an exciting and also intimidating step in the job search. Preparation is key to interview success! The Office of Career Services will cover types of interviews & questions\, tips on preparation\, and best practices during an interview. We welcome both students and alumni to this event. \n
URL:https://sph.cuny.edu/event/winning-the-job-interview/
LOCATION:Virtual (Online)
CATEGORIES:Alumni,Career,Students
ATTACH;FMTTYPE=image/jpeg:https://sph.cuny.edu/wp-content/uploads/2020/12/Video-conference-with-career-counselor-scaled.jpg
ORGANIZER;CN="Career%20Services":MAILTO:careerservices@sph.cuny.edu
END:VEVENT
END:VCALENDAR