BEGIN:VCALENDAR
VERSION:2.0
PRODID:-//CUNY Graduate School of Public Health &amp; Health Policy - ECPv4.9.9//NONSGML v1.0//EN
CALSCALE:GREGORIAN
METHOD:PUBLISH
X-ORIGINAL-URL:https://sph.cuny.edu
X-WR-CALDESC:Events for CUNY Graduate School of Public Health &amp; Health Policy
BEGIN:VTIMEZONE
TZID:America/New_York
BEGIN:DAYLIGHT
TZOFFSETFROM:-0500
TZOFFSETTO:-0400
TZNAME:EDT
DTSTART:20250309T070000
END:DAYLIGHT
BEGIN:STANDARD
TZOFFSETFROM:-0400
TZOFFSETTO:-0500
TZNAME:EST
DTSTART:20251102T060000
END:STANDARD
END:VTIMEZONE
BEGIN:VEVENT
DTSTART;TZID=America/New_York:20251022T180000
DTEND;TZID=America/New_York:20251022T193000
DTSTAMP:20260421T210447
CREATED:20250916T140628Z
LAST-MODIFIED:20251007T151656Z
UID:157554-1761156000-1761161400@sph.cuny.edu
SUMMARY:What I Did with My Degree: A two-day panel event
DESCRIPTION:The Office of Career Services is pleased to present “What I Did with My Degree\,” a two-day panel event on Zoom\, featuring CUNY SPH alumni. These panels are a wonderful opportunity for current students\, alumni\, and those interested in getting a public health degree to gain valuable insight and learn more about career possibilities after graduating. The panels will each be 90 minutes with time for Q&A and will run concurrently. You can choose which breakout room and panel you’d like to attend. \nThis event is open to all\, and you are welcome to attend either or both event days. \nDay 1: Wednesday\, October 22\nFlier | Panelist Bios\nEnvironmental & Occupational Health Sciences\nHealth Policy & Management\nPublic Health Nutrition \nRSVP TO DAY 1 \nDay 2: Thursday\, October 23\nFlier | Panelist Bios\nCommunity Health\nEpidemiology & Biostatistics\nPopulation Health Informatics\nHealth Communication for Social Change \nRSVP TO DAY 2 \n
URL:https://sph.cuny.edu/event/what-i-did-with-my-degree-a-panel-event-day-1-2/
LOCATION:Virtual (Online)
CATEGORIES:Admissions,Career
ATTACH;FMTTYPE=image/jpeg:https://sph.cuny.edu/wp-content/uploads/2025/09/WIDWMD-REV.jpg
ORGANIZER;CN="Career%20Services":MAILTO:careerservices@sph.cuny.edu
END:VEVENT
END:VCALENDAR