BEGIN:VCALENDAR
VERSION:2.0
PRODID:-//CUNY Graduate School of Public Health &amp; Health Policy - ECPv4.9.9//NONSGML v1.0//EN
CALSCALE:GREGORIAN
METHOD:PUBLISH
X-ORIGINAL-URL:https://sph.cuny.edu
X-WR-CALDESC:Events for CUNY Graduate School of Public Health &amp; Health Policy
BEGIN:VTIMEZONE
TZID:America/New_York
BEGIN:DAYLIGHT
TZOFFSETFROM:-0500
TZOFFSETTO:-0400
TZNAME:EDT
DTSTART:20230312T070000
END:DAYLIGHT
BEGIN:STANDARD
TZOFFSETFROM:-0400
TZOFFSETTO:-0500
TZNAME:EST
DTSTART:20231105T060000
END:STANDARD
END:VTIMEZONE
BEGIN:VEVENT
DTSTART;TZID=America/New_York:20230316T160000
DTEND;TZID=America/New_York:20230316T170000
DTSTAMP:20260421T212509
CREATED:20230303T165051Z
LAST-MODIFIED:20230303T165051Z
UID:127167-1678982400-1678986000@sph.cuny.edu
SUMMARY:Visualizing School Meal Participation in New York City
DESCRIPTION:School meals are an important source of nutrition for the approximately 1.1 million students who attend New York City’s public schools\, especially for those students who come from very low-income households. Since the 2017-2018 academic year\, New York City has adopted universal free school lunch throughout the city’s more than 1\,000 public elementary\, middle and high schools. Despite the provision of free lunch (and free breakfast which has been available since the 2003-2004 academic year)\, the rate of childhood food insecurity in New York City tends to be higher than the overall NYC population\, and school meal participation rates vary significantly from school to school\, even within the same district and in areas of high potential need. \nIn this session\, participants will hear from researchers at CUNY Urban Food Policy Institute and invited guests\, including community advocates and students\, on how data from NYC Open Data were used to develop a dashboard prototype to visualize school meal participation rates in NYC’s public schools. The prototype was developed as part of a larger project to visualize aspects of food insecurity\, in collaboration with a wide range of academic\, government\, and non-profit experts. Participants who attend this session will also hear from a range of individuals with varying perspectives on factors influencing participation and discuss how we can utilize this information to better support initiatives to increase school meal participation. \n
URL:https://sph.cuny.edu/event/visualizing-school-meal-participation-in-new-york-city/
LOCATION:Virtual (Online)
ATTACH;FMTTYPE=image/png:https://sph.cuny.edu/wp-content/uploads/2023/03/PROMO_VISUAL.png
ORGANIZER;CN="CUNY%20Urban%20Food%20Policy%20Institute":MAILTO:urbanfoodpolicy@sph.cuny.edu
END:VEVENT
END:VCALENDAR