BEGIN:VCALENDAR
VERSION:2.0
PRODID:-//CUNY Graduate School of Public Health &amp; Health Policy - ECPv4.9.9//NONSGML v1.0//EN
CALSCALE:GREGORIAN
METHOD:PUBLISH
X-ORIGINAL-URL:https://sph.cuny.edu
X-WR-CALDESC:Events for CUNY Graduate School of Public Health &amp; Health Policy
BEGIN:VTIMEZONE
TZID:America/New_York
BEGIN:DAYLIGHT
TZOFFSETFROM:-0500
TZOFFSETTO:-0400
TZNAME:EDT
DTSTART:20250309T070000
END:DAYLIGHT
BEGIN:STANDARD
TZOFFSETFROM:-0400
TZOFFSETTO:-0500
TZNAME:EST
DTSTART:20251102T060000
END:STANDARD
END:VTIMEZONE
BEGIN:VEVENT
DTSTART;TZID=America/New_York:20251006T180000
DTEND;TZID=America/New_York:20251006T190000
DTSTAMP:20260420T143606
CREATED:20250917T200414Z
LAST-MODIFIED:20250918T133727Z
UID:157604-1759773600-1759777200@sph.cuny.edu
SUMMARY:Virtual Support Space for New Students
DESCRIPTION:To help ease the transition into graduate school\, Counseling and Wellness Services at CUNY SPH is hosting a virtual support space for new SPH students on Monday\, October 6th at 6pm. \nThe meeting offers a welcoming space for students to connect with peers\, share experiences\, and talk openly about the challenges of adjusting to this stage of their academic journey. Whether facing academic pressures\, managing multiple demands\, or simply needing a place to discuss your experiences\, we encourage students to join this supportive conversation. \nTo sign up and receive the virtual meeting link\, email Counseling@sph.cuny.edu (note: Registrants must be enrolled as a CUNY SPH student). \n  \n
URL:https://sph.cuny.edu/event/virtual-supportive-space-for-new-students/
LOCATION:Virtual (Online)
CATEGORIES:Students,Wellness
ATTACH;FMTTYPE=image/jpeg:https://sph.cuny.edu/wp-content/uploads/2025/09/Cesar-Photo.jpg
ORGANIZER;CN="Counseling%20and%20Wellness%20Services":MAILTO:counseling@sph.cuny.edu
END:VEVENT
END:VCALENDAR