BEGIN:VCALENDAR
VERSION:2.0
PRODID:-//CUNY Graduate School of Public Health &amp; Health Policy - ECPv4.9.9//NONSGML v1.0//EN
CALSCALE:GREGORIAN
METHOD:PUBLISH
X-ORIGINAL-URL:https://sph.cuny.edu
X-WR-CALDESC:Events for CUNY Graduate School of Public Health &amp; Health Policy
BEGIN:VTIMEZONE
TZID:America/New_York
BEGIN:DAYLIGHT
TZOFFSETFROM:-0500
TZOFFSETTO:-0400
TZNAME:EDT
DTSTART:20210314T070000
END:DAYLIGHT
BEGIN:STANDARD
TZOFFSETFROM:-0400
TZOFFSETTO:-0500
TZNAME:EST
DTSTART:20211107T060000
END:STANDARD
END:VTIMEZONE
BEGIN:VEVENT
DTSTART;TZID=America/New_York:20210217T180000
DTEND;TZID=America/New_York:20210217T200000
DTSTAMP:20260422T073106
CREATED:20210127T163725Z
LAST-MODIFIED:20210127T163725Z
UID:73473-1613584800-1613592000@sph.cuny.edu
SUMMARY:Virtual Open House: MPH and MS programs
DESCRIPTION:Are you interested in our Certificate and Master’s degree programs? Check out our program offerings\, learn more about our exciting graduate programs in public health\, and talk to our faculty and staff. \nMeet with our admissions staff and faculty and learn how you can get involved in exciting public health research conducted by our faculty. \nFind out what you need to do to qualify for one of our scholarships \nIf you have any other questions regarding admissions\, please reach out to us! The fastest way to reach us is to email us at admissions@sph.cuny.edu. \n
URL:https://sph.cuny.edu/event/virtual-open-house-mph-and-ms-programs/
LOCATION:Virtual (Online)
CATEGORIES:Admissions
END:VEVENT
END:VCALENDAR