BEGIN:VCALENDAR
VERSION:2.0
PRODID:-//CUNY Graduate School of Public Health &amp; Health Policy - ECPv4.9.9//NONSGML v1.0//EN
CALSCALE:GREGORIAN
METHOD:PUBLISH
X-ORIGINAL-URL:https://sph.cuny.edu
X-WR-CALDESC:Events for CUNY Graduate School of Public Health &amp; Health Policy
BEGIN:VTIMEZONE
TZID:America/New_York
BEGIN:DAYLIGHT
TZOFFSETFROM:-0500
TZOFFSETTO:-0400
TZNAME:EDT
DTSTART:20230312T070000
END:DAYLIGHT
BEGIN:STANDARD
TZOFFSETFROM:-0400
TZOFFSETTO:-0500
TZNAME:EST
DTSTART:20231105T060000
END:STANDARD
END:VTIMEZONE
BEGIN:VEVENT
DTSTART;TZID=America/New_York:20231013T120000
DTEND;TZID=America/New_York:20231013T130000
DTSTAMP:20260421T212715
CREATED:20231004T164540Z
LAST-MODIFIED:20231004T173240Z
UID:132418-1697198400-1697202000@sph.cuny.edu
SUMMARY:Systems Science Journal Club October Meeting
DESCRIPTION:The systems science journal club is a monthly meeting space for CUNY SPH students and faculty to come together and learn more about systems modeling methods and discuss their applications to public health research.\nThis club meets once per month to discuss a selected systems science-related journal article\, book chapter\, news article\, etc. The club will also be hosting other types of events in future meetings\, including guest speakers\, seminars\, and workshop events. \nOur next journal club meeting will be on Friday\, 10/13 from 12pm-1pm on Zoom. The paper we will be discussing is “Saving lives or harming the healthy?” Overuse and fluctuations in routine medical screening by Authors Özge Karanfil and John Sterman. \nhttps://onlinelibrary.wiley.com/doi/10.1002/sdr.1661 \nWe hope you can join us! Please RSVP to this event using the provided Eventbrite link\, where you will gain access to the zoom link for the meeting along with a link to the article.\nThis event is open to all CUNY SPH students and faculty. Our goal is to make this an open space for anyone interested in exploring systems science methods\, regardless of prior experience. \n
URL:https://sph.cuny.edu/event/systems-science-journal-club-october-meeting-2/
LOCATION:Virtual (Online)
CATEGORIES:Faculty and Staff,Students
ORGANIZER;CN="Center%20for%20Systems%20and%20Community%20Design":MAILTO:cscd@sph.cuny.edu
END:VEVENT
END:VCALENDAR