BEGIN:VCALENDAR
VERSION:2.0
PRODID:-//CUNY Graduate School of Public Health &amp; Health Policy - ECPv4.9.9//NONSGML v1.0//EN
CALSCALE:GREGORIAN
METHOD:PUBLISH
X-ORIGINAL-URL:https://sph.cuny.edu
X-WR-CALDESC:Events for CUNY Graduate School of Public Health &amp; Health Policy
BEGIN:VTIMEZONE
TZID:America/New_York
BEGIN:DAYLIGHT
TZOFFSETFROM:-0500
TZOFFSETTO:-0400
TZNAME:EDT
DTSTART:20260308T070000
END:DAYLIGHT
BEGIN:STANDARD
TZOFFSETFROM:-0400
TZOFFSETTO:-0500
TZNAME:EST
DTSTART:20261101T060000
END:STANDARD
END:VTIMEZONE
BEGIN:VEVENT
DTSTART;TZID=America/New_York:20260421T153000
DTEND;TZID=America/New_York:20260421T180000
DTSTAMP:20260421T204736
CREATED:20260324T152412Z
LAST-MODIFIED:20260324T152450Z
UID:161203-1776785400-1776794400@sph.cuny.edu
SUMMARY:Student Wellness Week 2026: Recharge with the GSGA
DESCRIPTION:Graduate school has a way of keeping you constantly in motion\, but your well-being shouldn’t be the last thing on your to-do list. That’s why Counseling and Wellness Services is inviting you to slow down and take care of yourself during our annual CUNY SPH Student Wellness Week from April 20–24\, 2026. \nThis year’s theme\, Recharge\, Refresh\, Rebalance\, is a reminder that sustainable success starts with a healthy foundation. When we make space to care for ourselves\, we become more present\, more resilient\, and more capable of doing the work that matters to us. \nWe invite you to pause and remember that the most important investment you can make this week is in yourself. Sign up today for the events that feel right to you! \nRecharge with the GSGA \nTues\, Apr 21  |  3:30pm – 6pm  |  CUNY SPH\, Room 503 \nJoin the Graduate Student Government Association (GSGA) and other fellow students for a self-care drop-in. This will be a laid-back\, come-as-you-are space designed to help you slow down and recharge in the middle of a busy semester. \nStop by whenever works for you and play games with fellow students\, unwind with coloring books\, or simply enjoy some good food and company. No agenda\, no pressure\, just a genuine opportunity to connect and take a little time for yourself. \nFood will be served and every student who attends will receive a free self-care kit from Counseling and Wellness Services to take home. \n
URL:https://sph.cuny.edu/event/student-wellness-week-2026-recharge-gsga/
LOCATION:CUNY SPH\, Room 503\, 55 W. 125th Street\, New York\, NY\, 10027\, United States
CATEGORIES:Students,Wellness
END:VEVENT
END:VCALENDAR