BEGIN:VCALENDAR
VERSION:2.0
PRODID:-//CUNY Graduate School of Public Health &amp; Health Policy - ECPv4.9.9//NONSGML v1.0//EN
CALSCALE:GREGORIAN
METHOD:PUBLISH
X-ORIGINAL-URL:https://sph.cuny.edu
X-WR-CALDESC:Events for CUNY Graduate School of Public Health &amp; Health Policy
BEGIN:VTIMEZONE
TZID:America/New_York
BEGIN:DAYLIGHT
TZOFFSETFROM:-0500
TZOFFSETTO:-0400
TZNAME:EDT
DTSTART:20170312T070000
END:DAYLIGHT
BEGIN:STANDARD
TZOFFSETFROM:-0400
TZOFFSETTO:-0500
TZNAME:EST
DTSTART:20171105T060000
END:STANDARD
END:VTIMEZONE
BEGIN:VEVENT
DTSTART;TZID=America/New_York:20170228T200000
DTEND;TZID=America/New_York:20170228T210000
DTSTAMP:20260421T151350
CREATED:20190523T183438Z
LAST-MODIFIED:20190523T183438Z
UID:8519-1488312000-1488315600@sph.cuny.edu
SUMMARY:Student Town Hall Meeting
DESCRIPTION:The Bridging Committee is hosting a town hall in the 7th Floor Auditorium for all graduate students to briefly:  1) Discuss the results of the Student Activity Fee Survey that was sent at the beginning of this semester (over 110 students completed the survey!)  2) Obtain student signatures (we need at least 50 in-person signatures) on an official petition to support placing a referendum on the election ballot (taking place April 2017) to establish the Student Activity Fee amount and covered activities.  From the beginning\, our goal as the Bridging Committee was to ensure that the voices of the student body guide our decision-making process\, and that this process is as transparent as possible. This town hall is our opportunity to present our data\, findings\, and conclusions regarding your needsand preferences. We hope you join us and participate in these efforts to strengthen our school and the student experience.  For more information\, please contact cunysph.bridgingcommittee@sph.cuny.edu \n
URL:https://sph.cuny.edu/event/student-town-hall-meeting/
CATEGORIES:Other
END:VEVENT
END:VCALENDAR