BEGIN:VCALENDAR
VERSION:2.0
PRODID:-//CUNY Graduate School of Public Health &amp; Health Policy - ECPv4.9.9//NONSGML v1.0//EN
CALSCALE:GREGORIAN
METHOD:PUBLISH
X-ORIGINAL-URL:https://sph.cuny.edu
X-WR-CALDESC:Events for CUNY Graduate School of Public Health &amp; Health Policy
BEGIN:VTIMEZONE
TZID:America/New_York
BEGIN:DAYLIGHT
TZOFFSETFROM:-0500
TZOFFSETTO:-0400
TZNAME:EDT
DTSTART:20180311T070000
END:DAYLIGHT
BEGIN:STANDARD
TZOFFSETFROM:-0400
TZOFFSETTO:-0500
TZNAME:EST
DTSTART:20181104T060000
END:STANDARD
END:VTIMEZONE
BEGIN:VEVENT
DTSTART;TZID=America/New_York:20181101T160000
DTEND;TZID=America/New_York:20181101T173000
DTSTAMP:20260422T033054
CREATED:20190523T183229Z
LAST-MODIFIED:20190523T183229Z
UID:8372-1541088000-1541093400@sph.cuny.edu
SUMMARY:Student Advising Day
DESCRIPTION:November 1&nbsp; |&nbsp; 4pm – 5:30pm&nbsp; |&nbsp; Room 717&nbsp; |&nbsp; RSVP \nThe Office of Academic Advising invites you to attend a Student Advising Day.During this time you can check in on your academic progress\, meet with your peers\, finalize your spring schedule\, and make sure you are on track to graduation. If you plan on attending\, please RSVP. \nIf you cannot make the event but would still like to meet with a staff advisor\, you can schedule a one-on-one appointment here. We look forward to meeting with you!” \n
URL:https://sph.cuny.edu/event/student-advising-day/
CATEGORIES:Lecture
END:VEVENT
END:VCALENDAR