BEGIN:VCALENDAR
VERSION:2.0
PRODID:-//CUNY Graduate School of Public Health &amp; Health Policy - ECPv4.9.9//NONSGML v1.0//EN
CALSCALE:GREGORIAN
METHOD:PUBLISH
X-ORIGINAL-URL:https://sph.cuny.edu
X-WR-CALDESC:Events for CUNY Graduate School of Public Health &amp; Health Policy
BEGIN:VTIMEZONE
TZID:America/New_York
BEGIN:DAYLIGHT
TZOFFSETFROM:-0500
TZOFFSETTO:-0400
TZNAME:EDT
DTSTART:20210314T070000
END:DAYLIGHT
BEGIN:STANDARD
TZOFFSETFROM:-0400
TZOFFSETTO:-0500
TZNAME:EST
DTSTART:20211107T060000
END:STANDARD
END:VTIMEZONE
BEGIN:VEVENT
DTSTART;TZID=America/New_York:20210427T170000
DTEND;TZID=America/New_York:20210427T180000
DTSTAMP:20260421T152125
CREATED:20210216T173315Z
LAST-MODIFIED:20210216T173315Z
UID:73804-1619542800-1619546400@sph.cuny.edu
SUMMARY:Stress Management Support Group
DESCRIPTION:Student Wellness Counselor\, Sherry Adams\, will facilitate a weekly open support group for students that will promote use of adaptive coping skills and the mutual aid dynamic. In conjunction with group participants Sherry will share strategies for managing time\, academic and personal stressors\, and address the emotional impact of enduring simultaneous pandemics. This group will be a safe and affirming space for SPH students coping with a range of challenges to offer and receive support during these trying times. There will be opportunities for creative expression as a method of stress management and mindfulness exercises will be incorporated. If you would like more information please email Student Wellness Counselor Sherry Adams at sherry.adams@sph.cuny.edu. \nThis support group will meet virtually on Tuesday at 5pm\, from March 2nd through May 11th. \nThe creation of this group has been informed by the Student Wellness Survey responses. \nJoin Zoom Meeting\nMeeting ID: 813 2542 4718\nPasscode: 540433 \n
URL:https://sph.cuny.edu/event/stress-management-support-group-042721/
LOCATION:Virtual (Online)
CATEGORIES:Students,Wellness
END:VEVENT
END:VCALENDAR