BEGIN:VCALENDAR
VERSION:2.0
PRODID:-//CUNY Graduate School of Public Health &amp; Health Policy - ECPv4.9.9//NONSGML v1.0//EN
CALSCALE:GREGORIAN
METHOD:PUBLISH
X-ORIGINAL-URL:https://sph.cuny.edu
X-WR-CALDESC:Events for CUNY Graduate School of Public Health &amp; Health Policy
BEGIN:VTIMEZONE
TZID:America/New_York
BEGIN:DAYLIGHT
TZOFFSETFROM:-0500
TZOFFSETTO:-0400
TZNAME:EDT
DTSTART:20210314T070000
END:DAYLIGHT
BEGIN:STANDARD
TZOFFSETFROM:-0400
TZOFFSETTO:-0500
TZNAME:EST
DTSTART:20211107T060000
END:STANDARD
END:VTIMEZONE
BEGIN:VEVENT
DTSTART;TZID=America/New_York:20210222T120000
DTEND;TZID=America/New_York:20210222T130000
DTSTAMP:20260421T052909
CREATED:20210201T184508Z
LAST-MODIFIED:20210201T184508Z
UID:73526-1613995200-1613998800@sph.cuny.edu
SUMMARY:SOMOS Innovation Info Session
DESCRIPTION:Learn about SOMOS Innovation – the next step on the path to culturally competent Value-Based healthcare. They are looking to hire new team members in 2021 across many different departments. By utilizing the SOMOS Community Care model\, SOMOS physicians reduced preventable hospital admissions by more than 20 percent\, and avoidable readmissions by 25 percent. Given this remarkable performance\, New York State’s Value-Based Payment (VBP) program designated SOMOS IPA as a VBP Innovator; SOMOS IPA is the only physician-led organization to earn that distinction. SOMOS Community Care is a not-for-profit organization comprised of a network of more than 2\,500 independent physicians that care for nearly one million Medicaid patients\, predominantly of Hispanic and Asian ethnicity in 4 boroughs of New York City and Nassau County. \n
URL:https://sph.cuny.edu/event/somos-innovation-info-session/
LOCATION:Virtual (Online)
CATEGORIES:Career,Students
ORGANIZER;CN="Career%20Services":MAILTO:careerservices@sph.cuny.edu
END:VEVENT
END:VCALENDAR