BEGIN:VCALENDAR
VERSION:2.0
PRODID:-//CUNY Graduate School of Public Health &amp; Health Policy - ECPv4.9.9//NONSGML v1.0//EN
CALSCALE:GREGORIAN
METHOD:PUBLISH
X-ORIGINAL-URL:https://sph.cuny.edu
X-WR-CALDESC:Events for CUNY Graduate School of Public Health &amp; Health Policy
BEGIN:VTIMEZONE
TZID:America/New_York
BEGIN:DAYLIGHT
TZOFFSETFROM:-0500
TZOFFSETTO:-0400
TZNAME:EDT
DTSTART:20200308T070000
END:DAYLIGHT
BEGIN:STANDARD
TZOFFSETFROM:-0400
TZOFFSETTO:-0500
TZNAME:EST
DTSTART:20201101T060000
END:STANDARD
END:VTIMEZONE
BEGIN:VEVENT
DTSTART;TZID=America/New_York:20201204T120000
DTEND;TZID=America/New_York:20201204T130000
DTSTAMP:20260423T103028
CREATED:20201112T170026Z
LAST-MODIFIED:20201112T170026Z
UID:72737-1607083200-1607086800@sph.cuny.edu
SUMMARY:Rockefeller Foundation Info Session
DESCRIPTION:Join representatives from Human Resources and the Health Initiative Team at The Rockefeller Foundation to hear an overview of their internship program for summer 2021 with a specific focus on opportunities for current Public Health students. They will also share an overview of their Health Initiative Team specifically addressing current projects and how Covid has changed and redirected some of their work. Brought to you by the CUNY SPH Office of Career Services. \n
URL:https://sph.cuny.edu/event/rockefeller-foundation-info-session/
LOCATION:Virtual (Online)
CATEGORIES:Career,Students
ORGANIZER;CN="Career%20Services":MAILTO:careerservices@sph.cuny.edu
END:VEVENT
END:VCALENDAR