BEGIN:VCALENDAR
VERSION:2.0
PRODID:-//CUNY Graduate School of Public Health &amp; Health Policy - ECPv4.9.9//NONSGML v1.0//EN
CALSCALE:GREGORIAN
METHOD:PUBLISH
X-ORIGINAL-URL:https://sph.cuny.edu
X-WR-CALDESC:Events for CUNY Graduate School of Public Health &amp; Health Policy
BEGIN:VTIMEZONE
TZID:America/New_York
BEGIN:DAYLIGHT
TZOFFSETFROM:-0500
TZOFFSETTO:-0400
TZNAME:EDT
DTSTART:20180311T070000
END:DAYLIGHT
BEGIN:STANDARD
TZOFFSETFROM:-0400
TZOFFSETTO:-0500
TZNAME:EST
DTSTART:20181104T060000
END:STANDARD
END:VTIMEZONE
BEGIN:VEVENT
DTSTART;TZID=America/New_York:20180312T170000
DTEND;TZID=America/New_York:20180312T190000
DTSTAMP:20260420T021253
CREATED:20190523T183315Z
LAST-MODIFIED:20190523T183315Z
UID:8424-1520874000-1520881200@sph.cuny.edu
SUMMARY:Resume Lab Workshop
DESCRIPTION:Needhelp with your resume? Drop by a resume lab workshop to get feedback on yourresume. These workshops will take place in a computer lab to allow you to workon updating and tailoring your resume. \nRSVP&nbsp;&nbsp;&nbsp;” \n
URL:https://sph.cuny.edu/event/resume-lab-workshop-2/
CATEGORIES:Students
END:VEVENT
END:VCALENDAR