BEGIN:VCALENDAR
VERSION:2.0
PRODID:-//CUNY Graduate School of Public Health &amp; Health Policy - ECPv4.9.9//NONSGML v1.0//EN
CALSCALE:GREGORIAN
METHOD:PUBLISH
X-ORIGINAL-URL:https://sph.cuny.edu
X-WR-CALDESC:Events for CUNY Graduate School of Public Health &amp; Health Policy
BEGIN:VTIMEZONE
TZID:America/New_York
BEGIN:DAYLIGHT
TZOFFSETFROM:-0500
TZOFFSETTO:-0400
TZNAME:EDT
DTSTART:20180311T070000
END:DAYLIGHT
BEGIN:STANDARD
TZOFFSETFROM:-0400
TZOFFSETTO:-0500
TZNAME:EST
DTSTART:20181104T060000
END:STANDARD
END:VTIMEZONE
BEGIN:VEVENT
DTSTART;TZID=America/New_York:20180511T090000
DTEND;TZID=America/New_York:20180511T110000
DTSTAMP:20260425T222502
CREATED:20190523T183254Z
LAST-MODIFIED:20190523T183254Z
UID:8402-1526029200-1526036400@sph.cuny.edu
SUMMARY:Presentation: Dr. Yu Chen\, MPH\, PhD
DESCRIPTION:Dean Ayman El-Mohandes and the Department of Epidemiology and Biostatistics invites you to attend a presentation by Dr. Yu Chen\, on Friday\, May 11th\, 2018\, at 9:45AM.    Dr. Chen is a tenured Associate Professor at the New York University School of Medicine whose research focuses on how environmental exposures and host factors are related to the risk of cardiovascular disease (CVD) and cancer. Her presentation will focus on her career trajectory\, epidemiological research accomplishments and/or contributions.   Please join us on Friday\, May 11\, 2018 at 9:00AM for a meet and greet with Dr. Chen in the 7th Floor Auditorium (room 708).    Continental Breakfast will be provided.  \n
URL:https://sph.cuny.edu/event/presentation-dr-yu-chen-mph-phd/
CATEGORIES:Lecture
END:VEVENT
END:VCALENDAR