BEGIN:VCALENDAR
VERSION:2.0
PRODID:-//CUNY Graduate School of Public Health &amp; Health Policy - ECPv4.9.9//NONSGML v1.0//EN
CALSCALE:GREGORIAN
METHOD:PUBLISH
X-ORIGINAL-URL:https://sph.cuny.edu
X-WR-CALDESC:Events for CUNY Graduate School of Public Health &amp; Health Policy
BEGIN:VTIMEZONE
TZID:America/New_York
BEGIN:DAYLIGHT
TZOFFSETFROM:-0500
TZOFFSETTO:-0400
TZNAME:EDT
DTSTART:20220313T070000
END:DAYLIGHT
BEGIN:STANDARD
TZOFFSETFROM:-0400
TZOFFSETTO:-0500
TZNAME:EST
DTSTART:20221106T060000
END:STANDARD
END:VTIMEZONE
BEGIN:VEVENT
DTSTART;TZID=America/New_York:20221019T180000
DTEND;TZID=America/New_York:20221019T193000
DTSTAMP:20260421T092318
CREATED:20220616T030736Z
LAST-MODIFIED:20220616T030736Z
UID:122130-1666202400-1666207800@sph.cuny.edu
SUMMARY:Population Health Informatics Information Session
DESCRIPTION:Population Health Informatics addresses the growing opportunity to use technology to implement evidence-based solutions for the improvement of population health outcomes. While most health informatics programs take a hospital-centric approach\, this innovative first-of-its-kind program focuses on how to operationalize informatics solutions to address important public health challenges impacting individuals\, families\, communities\, and the environment in which they live. Students will acquire skills on how technology can be used at the intersection of clinical care and health sciences to strengthen the efforts for preventive care at the population level. The program offers practical coverage of critical topics such as big data\, cloud computing\, mobile health\, surveillance and visualization all from the perspective of the end user. Further\, the program will offer students the skills and expertise to design\, develop\, implement and evaluate technology enabled interventions and solutions to address the population health challenges of the 21st century. This program is fully online. \n
URL:https://sph.cuny.edu/event/population-health-informatics-information-session-2/
LOCATION:Virtual (Online)
CATEGORIES:Admissions
END:VEVENT
END:VCALENDAR