BEGIN:VCALENDAR
VERSION:2.0
PRODID:-//CUNY Graduate School of Public Health &amp; Health Policy - ECPv4.9.9//NONSGML v1.0//EN
CALSCALE:GREGORIAN
METHOD:PUBLISH
X-ORIGINAL-URL:https://sph.cuny.edu
X-WR-CALDESC:Events for CUNY Graduate School of Public Health &amp; Health Policy
BEGIN:VTIMEZONE
TZID:America/New_York
BEGIN:DAYLIGHT
TZOFFSETFROM:-0500
TZOFFSETTO:-0400
TZNAME:EDT
DTSTART:20250309T070000
END:DAYLIGHT
BEGIN:STANDARD
TZOFFSETFROM:-0400
TZOFFSETTO:-0500
TZNAME:EST
DTSTART:20251102T060000
END:STANDARD
END:VTIMEZONE
BEGIN:VEVENT
DTSTART;TZID=America/New_York:20250507T180000
DTEND;TZID=America/New_York:20250507T190000
DTSTAMP:20260420T033027
CREATED:20250410T181643Z
LAST-MODIFIED:20250410T181727Z
UID:153409-1746640800-1746644400@sph.cuny.edu
SUMMARY:PhD (Virtual) Open House
DESCRIPTION:Join us at our Virtual Open House and take the first step towards a dynamic career in public health. Learn more about our academic offerings\, admissions requirements\, deadlines\, student services\, and more! \nAt CUNY SPH you’ll find an environment where excellence\, diversity\, and accessibility converge to offer an affordable and world-class education.\nWhy CUNY SPH? \nHere’s what sets us apart: \nU.S. News & World Report Ranking: Be part of a prestigious institution\, proudly ranked as the #1 public school of public health in the tri-state area. \nBroad Selection of Educational Offerings: Explore a range of programs tailored to your interests – 3 PhD\, 5 MPH\, 3 MS programs\, and 2 certificate programs. \nExemplary Outcomes: Join a community where 98% of graduates achieve employment or continue their education\, with 80% actively engaged in their chosen field. \nExcellence in Teaching: Experience learning with a personal touch\, thanks to our remarkable student-to-faculty ratio of 10:1 and the high satisfaction rate among our students towards their professors. \nFlexible Program Design: Embrace the flexibility with master’s degree programs available fully online and evening in-person classes\, perfect for both part-time and full-time commitments. \nExceptional\, Affordable Education: Embark on a cost-effective journey to advance your public health career\, supported by numerous financial assistance opportunities and in-state tuition rates for online students. \nIf you have any other questions regarding admissions\, please reach out to us!\nEmail: admissions@sph.cuny.edu \nText: ‪(646) 664-1366\nCall: (646) 664-8355 \n
URL:https://sph.cuny.edu/event/phd-virtual-open-house/
LOCATION:Virtual (Online)
CATEGORIES:Admissions
ORGANIZER;CN="Office%20of%20Admissions":MAILTO:admissions@sph.cuny.edu
END:VEVENT
END:VCALENDAR