BEGIN:VCALENDAR
VERSION:2.0
PRODID:-//CUNY Graduate School of Public Health &amp; Health Policy - ECPv4.9.9//NONSGML v1.0//EN
CALSCALE:GREGORIAN
METHOD:PUBLISH
X-ORIGINAL-URL:https://sph.cuny.edu
X-WR-CALDESC:Events for CUNY Graduate School of Public Health &amp; Health Policy
BEGIN:VTIMEZONE
TZID:America/New_York
BEGIN:DAYLIGHT
TZOFFSETFROM:-0500
TZOFFSETTO:-0400
TZNAME:EDT
DTSTART:20220313T070000
END:DAYLIGHT
BEGIN:STANDARD
TZOFFSETFROM:-0400
TZOFFSETTO:-0500
TZNAME:EST
DTSTART:20221106T060000
END:STANDARD
END:VTIMEZONE
BEGIN:VEVENT
DTSTART;TZID=America/New_York:20220922T180000
DTEND;TZID=America/New_York:20220922T193000
DTSTAMP:20260420T110914
CREATED:20220616T032227Z
LAST-MODIFIED:20220616T032227Z
UID:122134-1663869600-1663875000@sph.cuny.edu
SUMMARY:PhD Open House
DESCRIPTION:The CUNY Graduate School of Public Health and Health Policy (CUNY SPH) is committed to excellence in teaching\, research\, and service. We work collaboratively toward creating a healthier New York City and healthier populations across the globe\, living on a healthier planet. We are leaders in promoting equitable and evidence-based solutions to build healthy cities everywhere.\nLocated in the vibrant Harlem neighborhood within the global metropolis of New York\, and a vital part of the City University of New York\, the world’s largest and most diverse urban public university\, CUNY SPH is known for our innovative programs and our inclusive culture. As New York City’s public school of public health\, CUNY SPH is committed to advancing health equity and social justice locally and globally; creating affordable\, accessible\, and supportive educational opportunities for all\, including students from underrepresented communities\, working adults\, and first-generation scholars; and preparing public health professionals for the challenges of tomorrow.\nCUNY SPH offers master’s\, doctoral\, certificate\, and internship programs that prepare students to meet the public health needs of the community. \n
URL:https://sph.cuny.edu/event/phd-open-house-3/
LOCATION:Virtual (Online)
CATEGORIES:Admissions
END:VEVENT
END:VCALENDAR