BEGIN:VCALENDAR
VERSION:2.0
PRODID:-//CUNY Graduate School of Public Health &amp; Health Policy - ECPv4.9.9//NONSGML v1.0//EN
CALSCALE:GREGORIAN
METHOD:PUBLISH
X-ORIGINAL-URL:https://sph.cuny.edu
X-WR-CALDESC:Events for CUNY Graduate School of Public Health &amp; Health Policy
BEGIN:VTIMEZONE
TZID:America/New_York
BEGIN:DAYLIGHT
TZOFFSETFROM:-0500
TZOFFSETTO:-0400
TZNAME:EDT
DTSTART:20210314T070000
END:DAYLIGHT
BEGIN:STANDARD
TZOFFSETFROM:-0400
TZOFFSETTO:-0500
TZNAME:EST
DTSTART:20211107T060000
END:STANDARD
END:VTIMEZONE
BEGIN:VEVENT
DTSTART;TZID=America/New_York:20210923T180000
DTEND;TZID=America/New_York:20210923T193000
DTSTAMP:20260421T075850
CREATED:20210802T135746Z
LAST-MODIFIED:20210802T135746Z
UID:79237-1632420000-1632425400@sph.cuny.edu
SUMMARY:PhD Open House
DESCRIPTION:Learn about CUNY SPH’s doctoral programs in public health. Chat with our faculty about their research\, funding opportunities\, curriculum\, and employment outlook. Find out from current students what it’s like to pursue a PhD in Public Health. \nDoctor of Philosophy in Public Health (PhD) degree concentrations:\nPhD in Community Health and Health Policy\nPhD in Environmental and Planetary Health Sciences\nPhD in Epidemiology \nThe fastest way to reach us is to email us at admissions@sph.cuny.edu. You may also call the admissions office at (646) 664-8355. \n
URL:https://sph.cuny.edu/event/phd-open-house-092321/
LOCATION:Virtual (Online)
CATEGORIES:Admissions
END:VEVENT
END:VCALENDAR