BEGIN:VCALENDAR
VERSION:2.0
PRODID:-//CUNY Graduate School of Public Health &amp; Health Policy - ECPv4.9.9//NONSGML v1.0//EN
CALSCALE:GREGORIAN
METHOD:PUBLISH
X-ORIGINAL-URL:https://sph.cuny.edu
X-WR-CALDESC:Events for CUNY Graduate School of Public Health &amp; Health Policy
BEGIN:VTIMEZONE
TZID:America/New_York
BEGIN:DAYLIGHT
TZOFFSETFROM:-0500
TZOFFSETTO:-0400
TZNAME:EDT
DTSTART:20220313T070000
END:DAYLIGHT
BEGIN:STANDARD
TZOFFSETFROM:-0400
TZOFFSETTO:-0500
TZNAME:EST
DTSTART:20221106T060000
END:STANDARD
END:VTIMEZONE
BEGIN:VEVENT
DTSTART;TZID=America/New_York:20220427T180000
DTEND;TZID=America/New_York:20220427T190000
DTSTAMP:20260419T231451
CREATED:20220414T215042Z
LAST-MODIFIED:20220414T215042Z
UID:114501-1651082400-1651086000@sph.cuny.edu
SUMMARY:OEL Fieldwork Q&A Session
DESCRIPTION:The Office of Experiential Learning is hosting a fieldwork Q&A for questions about fieldwork orientation content and your fieldwork search. While the session is not mandatory\, it is a great opportunity to connect with a fieldwork advisor to clarify outstanding questions after watching the orientation video. \n*Please note that MPH in Community Health students who matriculated in Fall 2019 or later have a different set of fieldwork requirements. These Orientation sessions will not be relevant to those students\, and instead you should reach out to Academic Advising at advising@sph.cuny.edu to learn more about your requirements. \nYou may find the Fieldwork Orientation video here.  \n
URL:https://sph.cuny.edu/event/oel-fieldwork-qa-session/
LOCATION:Virtual (Online)
CATEGORIES:Students
END:VEVENT
END:VCALENDAR