BEGIN:VCALENDAR
VERSION:2.0
PRODID:-//CUNY Graduate School of Public Health &amp; Health Policy - ECPv4.9.9//NONSGML v1.0//EN
CALSCALE:GREGORIAN
METHOD:PUBLISH
X-ORIGINAL-URL:https://sph.cuny.edu
X-WR-CALDESC:Events for CUNY Graduate School of Public Health &amp; Health Policy
BEGIN:VTIMEZONE
TZID:America/New_York
BEGIN:DAYLIGHT
TZOFFSETFROM:-0500
TZOFFSETTO:-0400
TZNAME:EDT
DTSTART:20170312T070000
END:DAYLIGHT
BEGIN:STANDARD
TZOFFSETFROM:-0400
TZOFFSETTO:-0500
TZNAME:EST
DTSTART:20171105T060000
END:STANDARD
END:VTIMEZONE
BEGIN:VEVENT
DTSTART;TZID=America/New_York:20170524T100000
DTEND;TZID=America/New_York:20170524T140000
DTSTAMP:20260422T035321
CREATED:20190523T183404Z
LAST-MODIFIED:20190523T183404Z
UID:8481-1495620000-1495634400@sph.cuny.edu
SUMMARY:NYSDCP On-Site
DESCRIPTION:Deferred Compensation Rep NYSDCP On-site  Wednesday May 24\, 2017 10:00am – 2:00pm Graduate School of PH & HP\, 5th Fl. Rm. 504  Account Executive: Lettitia Passley\, 845-420-0040 Stop by to ask questions\,review your account\, or enroll. \n
URL:https://sph.cuny.edu/event/nysdcp-on-site/
CATEGORIES:Lecture
END:VEVENT
END:VCALENDAR