BEGIN:VCALENDAR
VERSION:2.0
PRODID:-//CUNY Graduate School of Public Health &amp; Health Policy - ECPv4.9.9//NONSGML v1.0//EN
CALSCALE:GREGORIAN
METHOD:PUBLISH
X-ORIGINAL-URL:https://sph.cuny.edu
X-WR-CALDESC:Events for CUNY Graduate School of Public Health &amp; Health Policy
BEGIN:VTIMEZONE
TZID:America/New_York
BEGIN:DAYLIGHT
TZOFFSETFROM:-0500
TZOFFSETTO:-0400
TZNAME:EDT
DTSTART:20220313T070000
END:DAYLIGHT
BEGIN:STANDARD
TZOFFSETFROM:-0400
TZOFFSETTO:-0500
TZNAME:EST
DTSTART:20221106T060000
END:STANDARD
END:VTIMEZONE
BEGIN:VEVENT
DTSTART;TZID=America/New_York:20220120T170000
DTEND;TZID=America/New_York:20220120T183000
DTSTAMP:20260421T072906
CREATED:20211215T192906Z
LAST-MODIFIED:20211215T192906Z
UID:89299-1642698000-1642703400@sph.cuny.edu
SUMMARY:NYC DOHMH HRTP/Epi Scholars Summer Internship Program Info Session
DESCRIPTION:Reps from the NYC Department of Health and Mental Hygiene will be speaking about two internship programs. \nHRTP: A Public Health Internship Program is open to undergraduate\, graduate and professional school students of public health\, health education\, laboratory sciences\, medicine\, social work\, environmental engineering\, public administration\, accounting\, mathematics\, computer science\, law\, nursing\, the social sciences\, and many other majors. HRTP offers dynamic internships in public health research\, community health outreach and education\, fieldwork\, laboratory work and public health administration. \nThe NYC Epi Scholars program is a full-time\, paid 10-12 week summer internship program for top graduate epidemiology students at the NYC Department of Health and Mental Hygiene. \n
URL:https://sph.cuny.edu/event/nyc-dohmh-hrtp-epi-scholars-summer-internship-program-info-session/
LOCATION:Virtual (Online)
CATEGORIES:Career
ORGANIZER;CN="Career%20Services":MAILTO:careerservices@sph.cuny.edu
END:VEVENT
END:VCALENDAR