BEGIN:VCALENDAR
VERSION:2.0
PRODID:-//CUNY Graduate School of Public Health &amp; Health Policy - ECPv4.9.9//NONSGML v1.0//EN
CALSCALE:GREGORIAN
METHOD:PUBLISH
X-ORIGINAL-URL:https://sph.cuny.edu
X-WR-CALDESC:Events for CUNY Graduate School of Public Health &amp; Health Policy
BEGIN:VTIMEZONE
TZID:America/New_York
BEGIN:DAYLIGHT
TZOFFSETFROM:-0500
TZOFFSETTO:-0400
TZNAME:EDT
DTSTART:20180311T070000
END:DAYLIGHT
BEGIN:STANDARD
TZOFFSETFROM:-0400
TZOFFSETTO:-0500
TZNAME:EST
DTSTART:20181104T060000
END:STANDARD
END:VTIMEZONE
BEGIN:VEVENT
DTSTART;TZID=America/New_York:20180820T180000
DTEND;TZID=America/New_York:20180820T200000
DTSTAMP:20260420T120315
CREATED:20190523T183249Z
LAST-MODIFIED:20190523T183249Z
UID:8395-1534788000-1534795200@sph.cuny.edu
SUMMARY:New Student Bootcamp
DESCRIPTION:New Student Boot Camp \nAugust 20\, August 22&nbsp; |&nbsp; 5:30pm&nbsp; |&nbsp; Room 708&nbsp; |&nbsp; RSVP \n&nbsp;The Office ofStudent Services is hosting two New Student Boot Camps comprising several 45 minute presentations (including a 15 minute Q&amp;A at the end of each session) on various topics to help incoming students successfully transition into grad school. The Boot Camps will be held in the 7th floor auditorium. Light snacks will be provided. \nWe will also live stream both Boot Camps for those who can‚Äôt make it. Check the CUNY SPH YouTube channel for the stream. \nMonday\, August 205:30-6:15pm – Matt Paczkowski – Course selection and program planning6:15-7:00pm – Kristen Cribbs – Ethics/IRB training7:00-7:45pm – Marita LaMonica – Field Practicum placementWednesday\, August 225:30-6:15pm – Melissa Lozano – Insurance Navigators6:15-7:00pm – Marita LaMonica – Field Practicum placement7:00-7:45pm – Kristen Cribbs – Ethics/IRB training” \n
URL:https://sph.cuny.edu/event/new-student-bootcamp/
CATEGORIES:Students
END:VEVENT
END:VCALENDAR