BEGIN:VCALENDAR
VERSION:2.0
PRODID:-//CUNY Graduate School of Public Health &amp; Health Policy - ECPv4.9.9//NONSGML v1.0//EN
CALSCALE:GREGORIAN
METHOD:PUBLISH
X-ORIGINAL-URL:https://sph.cuny.edu
X-WR-CALDESC:Events for CUNY Graduate School of Public Health &amp; Health Policy
BEGIN:VTIMEZONE
TZID:America/New_York
BEGIN:DAYLIGHT
TZOFFSETFROM:-0500
TZOFFSETTO:-0400
TZNAME:EDT
DTSTART:20220313T070000
END:DAYLIGHT
BEGIN:STANDARD
TZOFFSETFROM:-0400
TZOFFSETTO:-0500
TZNAME:EST
DTSTART:20221106T060000
END:STANDARD
END:VTIMEZONE
BEGIN:VEVENT
DTSTART;TZID=America/New_York:20220228T170000
DTEND;TZID=America/New_York:20220228T180000
DTSTAMP:20260421T084343
CREATED:20220202T154407Z
LAST-MODIFIED:20220215T211411Z
UID:112880-1646067600-1646071200@sph.cuny.edu
SUMMARY:Navigating Our New Normal Support Group
DESCRIPTION:Since March 2020\, many of us have had to contend with an increase in social isolation. This has presented particular challenges for students who are parents or caregivers\, students living in close quarters with relatives\, partners or roommates with whom conflict has arisen\, those working remotely\, essential workers\, those of us who are grieving\, and a host of other challenges. The Navigating Our New Normal Support Group will provide a safe space to share experiences\, mutual support\, and develop healthy coping skills. Students can join at any time. \n
URL:https://sph.cuny.edu/event/navigating-our-new-normal-support-group-3/
LOCATION:Virtual (Online)
CATEGORIES:Students,Wellness
END:VEVENT
END:VCALENDAR