BEGIN:VCALENDAR
VERSION:2.0
PRODID:-//CUNY Graduate School of Public Health &amp; Health Policy - ECPv4.9.9//NONSGML v1.0//EN
CALSCALE:GREGORIAN
METHOD:PUBLISH
X-ORIGINAL-URL:https://sph.cuny.edu
X-WR-CALDESC:Events for CUNY Graduate School of Public Health &amp; Health Policy
BEGIN:VTIMEZONE
TZID:America/New_York
BEGIN:DAYLIGHT
TZOFFSETFROM:-0500
TZOFFSETTO:-0400
TZNAME:EDT
DTSTART:20210314T070000
END:DAYLIGHT
BEGIN:STANDARD
TZOFFSETFROM:-0400
TZOFFSETTO:-0500
TZNAME:EST
DTSTART:20211107T060000
END:STANDARD
END:VTIMEZONE
BEGIN:VEVENT
DTSTART;TZID=America/New_York:20211217T180000
DTEND;TZID=America/New_York:20211217T190000
DTSTAMP:20260422T032923
CREATED:20211209T150052Z
LAST-MODIFIED:20211209T154150Z
UID:89200-1639764000-1639767600@sph.cuny.edu
SUMMARY:MS in Population Health Informatics Information Session
DESCRIPTION:You’re invited to an information session to learn more about our MS in Population Health Informatics program. Population Health Informatics addresses the growing opportunity to use technology to implement evidence-based solutions for the improvement of population health outcomes. While most health informatics programs take a hospital-centric approach\, this innovative first-of-its-kind program focuses on how to operationalize informatics solutions to address important public health challenges impacting individuals\, families\, communities\, and the environment in which they live. Students will learn to use technology at the intersection of clinical care and health sciences in order to strengthen efforts for preventive care at the population level. The program offers practical coverage of critical topics such as big data\, cloud computing\, mobile health\, surveillance and visualization all from the perspective of the end user. Students are provided with the skills and expertise to design\, develop\, implement\, and evaluate technology enabled interventions and solutions to address the population health challenges facing us today. \n
URL:https://sph.cuny.edu/event/ms-phi-info-session-120821/
LOCATION:Virtual (Online)
CATEGORIES:Admissions
END:VEVENT
END:VCALENDAR