BEGIN:VCALENDAR
VERSION:2.0
PRODID:-//CUNY Graduate School of Public Health &amp; Health Policy - ECPv4.9.9//NONSGML v1.0//EN
CALSCALE:GREGORIAN
METHOD:PUBLISH
X-ORIGINAL-URL:https://sph.cuny.edu
X-WR-CALDESC:Events for CUNY Graduate School of Public Health &amp; Health Policy
BEGIN:VTIMEZONE
TZID:America/New_York
BEGIN:DAYLIGHT
TZOFFSETFROM:-0500
TZOFFSETTO:-0400
TZNAME:EDT
DTSTART:20220313T070000
END:DAYLIGHT
BEGIN:STANDARD
TZOFFSETFROM:-0400
TZOFFSETTO:-0500
TZNAME:EST
DTSTART:20221106T060000
END:STANDARD
END:VTIMEZONE
BEGIN:VEVENT
DTSTART;TZID=America/New_York:20220330T180000
DTEND;TZID=America/New_York:20220330T190000
DTSTAMP:20260420T005202
CREATED:20211221T184904Z
LAST-MODIFIED:20211222T185231Z
UID:112360-1648663200-1648666800@sph.cuny.edu
SUMMARY:MPH/MS Information Session
DESCRIPTION:CUNY Graduate School of Public Health and Health Policy invites students interested in our Advanced Public Health Certificate\, Masters of Public Health\, and Masters of Science degrees to join our live admissions information session to learn about admission requirements\, deadlines\, program offerings\, and more! \nAll prospective students are encouraged to attend an admissions information session for more details on the public health degree programs and admissions requirements at CUNY SPH. \n
URL:https://sph.cuny.edu/event/mph-ms-information-session-5/
LOCATION:Virtual (Online)
CATEGORIES:Admissions
END:VEVENT
END:VCALENDAR