BEGIN:VCALENDAR
VERSION:2.0
PRODID:-//CUNY Graduate School of Public Health &amp; Health Policy - ECPv4.9.9//NONSGML v1.0//EN
CALSCALE:GREGORIAN
METHOD:PUBLISH
X-ORIGINAL-URL:https://sph.cuny.edu
X-WR-CALDESC:Events for CUNY Graduate School of Public Health &amp; Health Policy
BEGIN:VTIMEZONE
TZID:America/New_York
BEGIN:DAYLIGHT
TZOFFSETFROM:-0500
TZOFFSETTO:-0400
TZNAME:EDT
DTSTART:20170312T070000
END:DAYLIGHT
BEGIN:STANDARD
TZOFFSETFROM:-0400
TZOFFSETTO:-0500
TZNAME:EST
DTSTART:20171105T060000
END:STANDARD
END:VTIMEZONE
BEGIN:VEVENT
DTSTART;TZID=America/New_York:20170206T170000
DTEND;TZID=America/New_York:20170206T210000
DTSTAMP:20260422T032532
CREATED:20190523T183444Z
LAST-MODIFIED:20190523T183444Z
UID:8527-1486400400-1486414800@sph.cuny.edu
SUMMARY:MPH Graduate Student Launch
DESCRIPTION:For more information and to RSVP: http://tinyurl.com/gradlaunch  All students are invited to join us for a Graduate Student LAUNCH program to provide practical advice\, suggestions\, and tips for your job search. The program includes a CV/resume review\, a panel of public health professionals to discuss strategies for getting hired\, an overview of interviewing tips\, techniques\, and a discussion about negotiation.  The program will be led by Jennifer Wisdom\, PhD MPH\, and Betsy Eastwood\, PhD. Please email your CV or resume  to Himani.Sharma@sph.cuny.edu by 5pm January 30 toallow time for review \n
URL:https://sph.cuny.edu/event/mph-graduate-student-launch/
CATEGORIES:Students,Webinar
END:VEVENT
END:VCALENDAR