BEGIN:VCALENDAR
VERSION:2.0
PRODID:-//CUNY Graduate School of Public Health &amp; Health Policy - ECPv4.9.9//NONSGML v1.0//EN
CALSCALE:GREGORIAN
METHOD:PUBLISH
X-ORIGINAL-URL:https://sph.cuny.edu
X-WR-CALDESC:Events for CUNY Graduate School of Public Health &amp; Health Policy
BEGIN:VTIMEZONE
TZID:America/New_York
BEGIN:DAYLIGHT
TZOFFSETFROM:-0500
TZOFFSETTO:-0400
TZNAME:EDT
DTSTART:20210314T070000
END:DAYLIGHT
BEGIN:STANDARD
TZOFFSETFROM:-0400
TZOFFSETTO:-0500
TZNAME:EST
DTSTART:20211107T060000
END:STANDARD
END:VTIMEZONE
BEGIN:VEVENT
DTSTART;TZID=America/New_York:20210630T180000
DTEND;TZID=America/New_York:20210630T200000
DTSTAMP:20260421T113753
CREATED:20210426T191218Z
LAST-MODIFIED:20210426T191218Z
UID:78751-1625076000-1625083200@sph.cuny.edu
SUMMARY:MPH and MS Information Sessions
DESCRIPTION:CUNY Graduate School of Public Health and Health Policy invites students interested in our Advanced Public Health Certificate\, Masters of Public Health\, and Masters of Science degrees to view our live admissions information session to learn about admission requirements\, deadlines\, program offerings\, and more! \n
URL:https://sph.cuny.edu/event/mph-and-ms-information-sessions-063021/
LOCATION:Virtual (Online)
CATEGORIES:Admissions
END:VEVENT
END:VCALENDAR