BEGIN:VCALENDAR
VERSION:2.0
PRODID:-//CUNY Graduate School of Public Health &amp; Health Policy - ECPv4.9.9//NONSGML v1.0//EN
CALSCALE:GREGORIAN
METHOD:PUBLISH
X-ORIGINAL-URL:https://sph.cuny.edu
X-WR-CALDESC:Events for CUNY Graduate School of Public Health &amp; Health Policy
BEGIN:VTIMEZONE
TZID:America/New_York
BEGIN:DAYLIGHT
TZOFFSETFROM:-0500
TZOFFSETTO:-0400
TZNAME:EDT
DTSTART:20220313T070000
END:DAYLIGHT
BEGIN:STANDARD
TZOFFSETFROM:-0400
TZOFFSETTO:-0500
TZNAME:EST
DTSTART:20221106T060000
END:STANDARD
END:VTIMEZONE
BEGIN:VEVENT
DTSTART;TZID=America/New_York:20221103T180000
DTEND;TZID=America/New_York:20221103T190000
DTSTAMP:20260424T074555
CREATED:20220926T143851Z
LAST-MODIFIED:20220926T143851Z
UID:123644-1667498400-1667502000@sph.cuny.edu
SUMMARY:MCRSH Information Session
DESCRIPTION:The MCRSH specialization is designed to provide MPH and PhD students with a theoretical understanding of the social and historical frameworks that shape related health outcomes across the life‐span\, as well as a foundation for research and programmatic activities in maternal\, child\, reproductive and sexual health. The curriculum embraces a holistic approach to sexual and reproductive health that recognizes the diversity of human sexual expression\, relationships and family structures; promotes informed\, healthy\, respectful and responsible choices\, free from coercion; and supports increased access to effective preventive\, screening\, treatment\, and support services. \n
URL:https://sph.cuny.edu/event/mcrsh-information-session/
LOCATION:Virtual (Online)
CATEGORIES:Admissions
END:VEVENT
END:VCALENDAR