BEGIN:VCALENDAR
VERSION:2.0
PRODID:-//CUNY Graduate School of Public Health &amp; Health Policy - ECPv4.9.9//NONSGML v1.0//EN
CALSCALE:GREGORIAN
METHOD:PUBLISH
X-ORIGINAL-URL:https://sph.cuny.edu
X-WR-CALDESC:Events for CUNY Graduate School of Public Health &amp; Health Policy
BEGIN:VTIMEZONE
TZID:America/New_York
BEGIN:DAYLIGHT
TZOFFSETFROM:-0500
TZOFFSETTO:-0400
TZNAME:EDT
DTSTART:20240310T070000
END:DAYLIGHT
BEGIN:STANDARD
TZOFFSETFROM:-0400
TZOFFSETTO:-0500
TZNAME:EST
DTSTART:20241103T060000
END:STANDARD
END:VTIMEZONE
BEGIN:VEVENT
DTSTART;TZID=America/New_York:20240308T120000
DTEND;TZID=America/New_York:20240308T130000
DTSTAMP:20260421T185340
CREATED:20240229T235228Z
LAST-MODIFIED:20240229T235228Z
UID:135465-1709899200-1709902800@sph.cuny.edu
SUMMARY:March Systems Science Club Meeting
DESCRIPTION:Dear CUNY SPH systems science club members\, \nWe will be having our journal club meeting next week\, virtually on Zoom at 12 pm EST on Friday\, March 8th. \nThe article we will be discussing is “From Text to Map: A System Dynamics Bot for Constructing Causal Loop Diagrams” By Niyousha Hosseinichimeh\, Aritra Majumdar\, Ross Williams\, and Navid Ghaffarzadegan \nhttps://arxiv.org/ftp/arxiv/papers/2402/2402.11400.pdf \nIf you’d like to join\, RSVP using the Eventbrite link below\, and feel free to share the invite with anyone else you know who might be interested! \nhttps://www.eventbrite.com/e/systems-science-journal-club-registration-277610068187?aff=oddtdtcreator \nHope to see you then! \n
URL:https://sph.cuny.edu/event/march-systems-science-club-meeting/
LOCATION:Virtual (Online)
CATEGORIES:Center/Institute
ORGANIZER;CN="Center%20for%20Systems%20and%20Community%20Design":MAILTO:cscd@sph.cuny.edu
END:VEVENT
END:VCALENDAR