BEGIN:VCALENDAR
VERSION:2.0
PRODID:-//CUNY Graduate School of Public Health &amp; Health Policy - ECPv4.9.9//NONSGML v1.0//EN
CALSCALE:GREGORIAN
METHOD:PUBLISH
X-ORIGINAL-URL:https://sph.cuny.edu
X-WR-CALDESC:Events for CUNY Graduate School of Public Health &amp; Health Policy
BEGIN:VTIMEZONE
TZID:America/New_York
BEGIN:DAYLIGHT
TZOFFSETFROM:-0500
TZOFFSETTO:-0400
TZNAME:EDT
DTSTART:20230312T070000
END:DAYLIGHT
BEGIN:STANDARD
TZOFFSETFROM:-0400
TZOFFSETTO:-0500
TZNAME:EST
DTSTART:20231105T060000
END:STANDARD
END:VTIMEZONE
BEGIN:VEVENT
DTSTART;TZID=America/New_York:20230927T170000
DTEND;TZID=America/New_York:20230927T180000
DTSTAMP:20260422T015258
CREATED:20230809T002948Z
LAST-MODIFIED:20230809T002948Z
UID:130543-1695834000-1695837600@sph.cuny.edu
SUMMARY:Live Fieldwork Orientation
DESCRIPTION:Required orientation for students planning to enroll in PUBH 696: Supervised Fieldwork or EPID 700: PopHI Project \n
URL:https://sph.cuny.edu/event/live-fieldwork-orientation-3/
LOCATION:Virtual (Online)
END:VEVENT
END:VCALENDAR