BEGIN:VCALENDAR
VERSION:2.0
PRODID:-//CUNY Graduate School of Public Health &amp; Health Policy - ECPv4.9.9//NONSGML v1.0//EN
CALSCALE:GREGORIAN
METHOD:PUBLISH
X-ORIGINAL-URL:https://sph.cuny.edu
X-WR-CALDESC:Events for CUNY Graduate School of Public Health &amp; Health Policy
BEGIN:VTIMEZONE
TZID:America/New_York
BEGIN:DAYLIGHT
TZOFFSETFROM:-0500
TZOFFSETTO:-0400
TZNAME:EDT
DTSTART:20220313T070000
END:DAYLIGHT
BEGIN:STANDARD
TZOFFSETFROM:-0400
TZOFFSETTO:-0500
TZNAME:EST
DTSTART:20221106T060000
END:STANDARD
END:VTIMEZONE
BEGIN:VEVENT
DTSTART;TZID=America/New_York:20221117T180000
DTEND;TZID=America/New_York:20221117T190000
DTSTAMP:20260421T145555
CREATED:20220914T140950Z
LAST-MODIFIED:20220914T140950Z
UID:123541-1668708000-1668711600@sph.cuny.edu
SUMMARY:LGBTQIA+ Student Support Group
DESCRIPTION:Thursdays at 6pm beginning October 6th (except November 24th)\nCounseling and Wellness Services is offering a virtual LGBTQIA+ Support Group for students interested in discussing sexuality\, gender identity and sense of self in the context of the current political climate. The group will provide a safe\, affirming space for students to speak openly about their experiences\, seek to promote overall wellbeing and solidarity within the LGBTQIA+ community and beyond. Facilitator: Thomas Salvanti \n
URL:https://sph.cuny.edu/event/lgbtqia-student-support-group-7/
LOCATION:Virtual (Online)
CATEGORIES:Students,Wellness
END:VEVENT
END:VCALENDAR