BEGIN:VCALENDAR
VERSION:2.0
PRODID:-//CUNY Graduate School of Public Health &amp; Health Policy - ECPv4.9.9//NONSGML v1.0//EN
CALSCALE:GREGORIAN
METHOD:PUBLISH
X-ORIGINAL-URL:https://sph.cuny.edu
X-WR-CALDESC:Events for CUNY Graduate School of Public Health &amp; Health Policy
BEGIN:VTIMEZONE
TZID:America/New_York
BEGIN:DAYLIGHT
TZOFFSETFROM:-0500
TZOFFSETTO:-0400
TZNAME:EDT
DTSTART:20220313T070000
END:DAYLIGHT
BEGIN:STANDARD
TZOFFSETFROM:-0400
TZOFFSETTO:-0500
TZNAME:EST
DTSTART:20221106T060000
END:STANDARD
END:VTIMEZONE
BEGIN:VEVENT
DTSTART;TZID=America/New_York:20220509T100000
DTEND;TZID=America/New_York:20220509T120000
DTSTAMP:20260423T141356
CREATED:20220405T162347Z
LAST-MODIFIED:20220507T161525Z
UID:114372-1652090400-1652097600@sph.cuny.edu
SUMMARY:Jonathan Corbin Dissertation Defense
DESCRIPTION:Title: Associations between Diabetes\, Cardiovascular Disease and Occupational Hearing Loss\, in a Cross-sectional Analysis of Department of Energy Nuclear Workers\, with Mendelian Randomization of Publicly Available Data to Enhance Observational Findings \nDissertation Committee Members:\nGhada Soliman (Chair)\nMary Schooling (Member)\nSteven Markowitz (Member)\nKavita Rajasekhar (Member) \nPlease email toya.cox@sph.cuny.edu for Zoom info. \n
URL:https://sph.cuny.edu/event/jonathan-corbin-dissertation-defense/
LOCATION:Virtual (Online)
CATEGORIES:Dissertation Defense
ATTACH;FMTTYPE=image/jpeg:https://sph.cuny.edu/wp-content/uploads/2022/04/Corbin-Headshot.jpg
END:VEVENT
END:VCALENDAR