BEGIN:VCALENDAR
VERSION:2.0
PRODID:-//CUNY Graduate School of Public Health &amp; Health Policy - ECPv4.9.9//NONSGML v1.0//EN
CALSCALE:GREGORIAN
METHOD:PUBLISH
X-ORIGINAL-URL:https://sph.cuny.edu
X-WR-CALDESC:Events for CUNY Graduate School of Public Health &amp; Health Policy
BEGIN:VTIMEZONE
TZID:America/New_York
BEGIN:DAYLIGHT
TZOFFSETFROM:-0500
TZOFFSETTO:-0400
TZNAME:EDT
DTSTART:20170312T070000
END:DAYLIGHT
BEGIN:STANDARD
TZOFFSETFROM:-0400
TZOFFSETTO:-0500
TZNAME:EST
DTSTART:20171105T060000
END:STANDARD
END:VTIMEZONE
BEGIN:VEVENT
DTSTART;TZID=America/New_York:20170510T140000
DTEND;TZID=America/New_York:20170510T160000
DTSTAMP:20260420T041547
CREATED:20190523T183427Z
LAST-MODIFIED:20190523T183427Z
UID:8507-1494424800-1494432000@sph.cuny.edu
SUMMARY:Introduction to APPS
DESCRIPTION:Introduction to APPS  May 10th 2017 2:00 ‚Äì 4:00 pm SPH Lecture Hall 800 Please RSVP to Amanda.Allen@sph.cuny.edu  Dr. John Tsapogas\, former National Science Foundation Program Director for Global Initiatives and Director of the Office of Award Pre-Proposal Support (APPS) at the Research Foundation of CUNY\, will be presenting this informative workshop for CUNY School of Public Health faculty.   \n
URL:https://sph.cuny.edu/event/introduction-to-apps/
CATEGORIES:Faculty and Staff,Training
END:VEVENT
END:VCALENDAR