BEGIN:VCALENDAR
VERSION:2.0
PRODID:-//CUNY Graduate School of Public Health &amp; Health Policy - ECPv4.9.9//NONSGML v1.0//EN
CALSCALE:GREGORIAN
METHOD:PUBLISH
X-ORIGINAL-URL:https://sph.cuny.edu
X-WR-CALDESC:Events for CUNY Graduate School of Public Health &amp; Health Policy
BEGIN:VTIMEZONE
TZID:America/New_York
BEGIN:DAYLIGHT
TZOFFSETFROM:-0500
TZOFFSETTO:-0400
TZNAME:EDT
DTSTART:20230312T070000
END:DAYLIGHT
BEGIN:STANDARD
TZOFFSETFROM:-0400
TZOFFSETTO:-0500
TZNAME:EST
DTSTART:20231105T060000
END:STANDARD
END:VTIMEZONE
BEGIN:VEVENT
DTSTART;TZID=America/New_York:20230308T110000
DTEND;TZID=America/New_York:20230308T120000
DTSTAMP:20260421T113048
CREATED:20230206T202551Z
LAST-MODIFIED:20230206T203036Z
UID:125209-1678273200-1678276800@sph.cuny.edu
SUMMARY:Intro to Mindful Meditation
DESCRIPTION:WorkWell NYC and CUNY SPH Human Resources are working together to provide employees virtual self-care and wellness programs. \nWe are excited to announce Introduction to Mindful Meditation\, \nwhich will take place March 8\, 2023 at 11am in the 7th floor Lecture Hall. \nThere are many benefits to meditation\, including stress relief\, improved focus and concentration. This session offers guided meditation practice and techniques\, appropriate for all practice levels. \nLearning Objectives:\nReview the practice of meditation.\nDiscuss the connection between meditation and stress reduction.\nPractice various meditative techniques. \nRSVP here or email: Angie Rivera: Angie.Rivera@sph.cuny.edu. \n
URL:https://sph.cuny.edu/event/intro-to-mindful-meditation/
CATEGORIES:Wellness
ATTACH;FMTTYPE=image/png:https://sph.cuny.edu/wp-content/uploads/2023/02/meditation.png
ORGANIZER;CN="Human%20Resources":MAILTO:hr@sph.cuny.edu
END:VEVENT
END:VCALENDAR