BEGIN:VCALENDAR
VERSION:2.0
PRODID:-//CUNY Graduate School of Public Health &amp; Health Policy - ECPv4.9.9//NONSGML v1.0//EN
CALSCALE:GREGORIAN
METHOD:PUBLISH
X-ORIGINAL-URL:https://sph.cuny.edu
X-WR-CALDESC:Events for CUNY Graduate School of Public Health &amp; Health Policy
BEGIN:VTIMEZONE
TZID:America/New_York
BEGIN:DAYLIGHT
TZOFFSETFROM:-0500
TZOFFSETTO:-0400
TZNAME:EDT
DTSTART:20230312T070000
END:DAYLIGHT
BEGIN:STANDARD
TZOFFSETFROM:-0400
TZOFFSETTO:-0500
TZNAME:EST
DTSTART:20231105T060000
END:STANDARD
END:VTIMEZONE
BEGIN:VEVENT
DTSTART;TZID=America/New_York:20230919T120000
DTEND;TZID=America/New_York:20230919T130000
DTSTAMP:20260421T135332
CREATED:20230809T001537Z
LAST-MODIFIED:20230809T002047Z
UID:130762-1695124800-1695128400@sph.cuny.edu
SUMMARY:Internship Discovery Series: HRTP: A Public Health Internship Program
DESCRIPTION:HRTP: A Public Health Internship Program at the New York City Department of Health and Mental Hygiene offers dynamic internships in public health research\, community health outreach and education\, fieldwork\, laboratory work\, and public health administration. By working on current relevant public health issues under the close supervision and mentorship of experienced professionals\, students apply classroom learning to practical problems in a closely matched practicum. This program is open to graduate and professional school students. \n
URL:https://sph.cuny.edu/event/internship-discovery-series-hrtp-a-public-health-internship-program/
LOCATION:Virtual (Online)
CATEGORIES:Career
ORGANIZER;CN="Career%20Services":MAILTO:careerservices@sph.cuny.edu
END:VEVENT
END:VCALENDAR