BEGIN:VCALENDAR
VERSION:2.0
PRODID:-//CUNY Graduate School of Public Health &amp; Health Policy - ECPv4.9.9//NONSGML v1.0//EN
CALSCALE:GREGORIAN
METHOD:PUBLISH
X-ORIGINAL-URL:https://sph.cuny.edu
X-WR-CALDESC:Events for CUNY Graduate School of Public Health &amp; Health Policy
BEGIN:VTIMEZONE
TZID:America/New_York
BEGIN:DAYLIGHT
TZOFFSETFROM:-0500
TZOFFSETTO:-0400
TZNAME:EDT
DTSTART:20240310T070000
END:DAYLIGHT
BEGIN:STANDARD
TZOFFSETFROM:-0400
TZOFFSETTO:-0500
TZNAME:EST
DTSTART:20241103T060000
END:STANDARD
END:VTIMEZONE
BEGIN:VEVENT
DTSTART;TZID=America/New_York:20240228T180000
DTEND;TZID=America/New_York:20240228T190000
DTSTAMP:20260421T152520
CREATED:20240208T221650Z
LAST-MODIFIED:20240208T221650Z
UID:134935-1709143200-1709146800@sph.cuny.edu
SUMMARY:Info session: MS in Environmental and Occupational Health Sciences
DESCRIPTION:Explore your future in public health at CUNY SPH! Join our admissions info session on our graduate degrees in Environmental and Occupational Health Sciences. \nOur MS in Environmental and Occupational Health Sciences program prepares you for the growing field of Industrial Hygiene. Sharpen your ability to detect and mitigate workplace hazards\, create safer and healthier environments across diverse settings\, and assess\, measure\, and mitigate exposures to environmental and occupational hazards. Graduates from our program become highly skilled health and safety specialists\, inspectors\, and industrial hygienists\, making a significant impact in government\, institutions\, and the corporate world. \nQuestions? Connect with us at admissions@sph.cuny.edu. \n
URL:https://sph.cuny.edu/event/info-session-ms-in-environmental-and-occupational-health-sciences/
LOCATION:Virtual (Online)
CATEGORIES:Admissions
END:VEVENT
END:VCALENDAR