BEGIN:VCALENDAR
VERSION:2.0
PRODID:-//CUNY Graduate School of Public Health &amp; Health Policy - ECPv4.9.9//NONSGML v1.0//EN
CALSCALE:GREGORIAN
METHOD:PUBLISH
X-ORIGINAL-URL:https://sph.cuny.edu
X-WR-CALDESC:Events for CUNY Graduate School of Public Health &amp; Health Policy
BEGIN:VTIMEZONE
TZID:America/New_York
BEGIN:DAYLIGHT
TZOFFSETFROM:-0500
TZOFFSETTO:-0400
TZNAME:EDT
DTSTART:20220313T070000
END:DAYLIGHT
BEGIN:STANDARD
TZOFFSETFROM:-0400
TZOFFSETTO:-0500
TZNAME:EST
DTSTART:20221106T060000
END:STANDARD
END:VTIMEZONE
BEGIN:VEVENT
DTSTART;TZID=America/New_York:20220512T100000
DTEND;TZID=America/New_York:20220512T110000
DTSTAMP:20260421T023247
CREATED:20220324T163613Z
LAST-MODIFIED:20220405T201017Z
UID:114138-1652349600-1652353200@sph.cuny.edu
SUMMARY:Info Session for International Students
DESCRIPTION:Do you wish to study public health in NYC — United States’ largest most diverse city\, where the nation’s most serious public health problems often emerge and are solved? Your search is over! Find the degree and program that is right for you and submit your application to become a student at the CUNY Graduate School of Public Health and Health Policy (CUNY SPH). Just keep in mind that it usually takes between two to three months from the time international students get admitted to the time they are able to enter the U.S.\, so submit your application early to allow yourself enough time.\nEmail iso@sph.cuny.edu with any questions once you are accepted into our programs.​ \n
URL:https://sph.cuny.edu/event/info-session-for-international-students-9/
LOCATION:Virtual (Online)
CATEGORIES:Admissions
END:VEVENT
END:VCALENDAR