BEGIN:VCALENDAR
VERSION:2.0
PRODID:-//CUNY Graduate School of Public Health &amp; Health Policy - ECPv4.9.9//NONSGML v1.0//EN
CALSCALE:GREGORIAN
METHOD:PUBLISH
X-ORIGINAL-URL:https://sph.cuny.edu
X-WR-CALDESC:Events for CUNY Graduate School of Public Health &amp; Health Policy
BEGIN:VTIMEZONE
TZID:America/New_York
BEGIN:DAYLIGHT
TZOFFSETFROM:-0500
TZOFFSETTO:-0400
TZNAME:EDT
DTSTART:20170312T070000
END:DAYLIGHT
BEGIN:STANDARD
TZOFFSETFROM:-0400
TZOFFSETTO:-0500
TZNAME:EST
DTSTART:20171105T060000
END:STANDARD
END:VTIMEZONE
BEGIN:VEVENT
DTSTART;TZID=America/New_York:20170328T183000
DTEND;TZID=America/New_York:20170328T200000
DTSTAMP:20260421T204550
CREATED:20190523T183426Z
LAST-MODIFIED:20190523T183426Z
UID:8504-1490725800-1490731200@sph.cuny.edu
SUMMARY:Immigrant Health Care Rights!
DESCRIPTION:Please join NYC Health + Hospitals\, in conjunction with the Mayor‚Äôs Office of Immigrant Affairs\, CM Bill Perkins\, New York Immigration Coalition\, and New York Legal Assistance Group for a townhall meeting on immigrants and their healthcare rights.     You will learn about: ¬∑      Your legal rights as an immigrant ¬∑         Ways you as an immigrant can access healthcare ¬∑         Immigrants‚Äô right to privacy ¬∑         Programs and services available to you\, regardless of immigration status ¬∑   Tools for protecting immigrants‚Äô access to healthcare   This event will take place on Tuesday\, March 28 from 6:30PM to 8:00PM at NYC Health +Hospitals/Harlem (Room 3101\, 506 Lenox Ave\, Manhattan)   Translation will be available in French and Spanish.    Legal Experts will be onsite.  Get signed up for health insurance.   Event contact: motleyk@nychhc.org \n
URL:https://sph.cuny.edu/event/immigrant-health-care-rights/
CATEGORIES:Lecture
END:VEVENT
END:VCALENDAR