BEGIN:VCALENDAR
VERSION:2.0
PRODID:-//CUNY Graduate School of Public Health &amp; Health Policy - ECPv4.9.9//NONSGML v1.0//EN
CALSCALE:GREGORIAN
METHOD:PUBLISH
X-ORIGINAL-URL:https://sph.cuny.edu
X-WR-CALDESC:Events for CUNY Graduate School of Public Health &amp; Health Policy
BEGIN:VTIMEZONE
TZID:America/New_York
BEGIN:DAYLIGHT
TZOFFSETFROM:-0500
TZOFFSETTO:-0400
TZNAME:EDT
DTSTART:20220313T070000
END:DAYLIGHT
BEGIN:STANDARD
TZOFFSETFROM:-0400
TZOFFSETTO:-0500
TZNAME:EST
DTSTART:20221106T060000
END:STANDARD
END:VTIMEZONE
BEGIN:VEVENT
DTSTART;TZID=America/New_York:20220510T180000
DTEND;TZID=America/New_York:20220510T193000
DTSTAMP:20260422T095721
CREATED:20220504T135017Z
LAST-MODIFIED:20220504T140445Z
UID:121489-1652205600-1652211000@sph.cuny.edu
SUMMARY:Getting back on track with HPV vaccination
DESCRIPTION:Please join CUNY SPH’s New York Vaccine Literacy Campaign and HHS Office of the Assistant Secretary for Health (HHS/OASH) Region 2 for a roundtable discussion “Getting Back on Track with HPV Vaccination” on Tuesday\, May 10th from 6:00 – 7:30pm ET. \n
URL:https://sph.cuny.edu/event/hpv-vaccination/
LOCATION:Virtual (Online)
ATTACH;FMTTYPE=image/jpeg:https://sph.cuny.edu/wp-content/uploads/2022/05/young-adult-photo.jpeg
END:VEVENT
END:VCALENDAR