BEGIN:VCALENDAR
VERSION:2.0
PRODID:-//CUNY Graduate School of Public Health &amp; Health Policy - ECPv4.9.9//NONSGML v1.0//EN
CALSCALE:GREGORIAN
METHOD:PUBLISH
X-ORIGINAL-URL:https://sph.cuny.edu
X-WR-CALDESC:Events for CUNY Graduate School of Public Health &amp; Health Policy
BEGIN:VTIMEZONE
TZID:America/New_York
BEGIN:DAYLIGHT
TZOFFSETFROM:-0500
TZOFFSETTO:-0400
TZNAME:EDT
DTSTART:20230312T070000
END:DAYLIGHT
BEGIN:STANDARD
TZOFFSETFROM:-0400
TZOFFSETTO:-0500
TZNAME:EST
DTSTART:20231105T060000
END:STANDARD
END:VTIMEZONE
BEGIN:VEVENT
DTSTART;TZID=America/New_York:20230522T100000
DTEND;TZID=America/New_York:20230522T103000
DTSTAMP:20260424T052504
CREATED:20230503T204307Z
LAST-MODIFIED:20230503T204307Z
UID:129096-1684749600-1684751400@sph.cuny.edu
SUMMARY:How to calculate final grades using Blackboard. Your questions\, answered. (for Faculty)
DESCRIPTION:How to calculate final grades using Blackboard. Your questions\, answered.\nMonday 5/22 @ 10am\nThis event is presented by the Office of Online Learning. \nJoin this short 30 minute live webinar for a walkthrough and Q&A on how to calculate your student grades for this semester using Blackboard. Learn tips on how to utilize the Grade Center to calculate your grades for you\, in preparation for final grade submission in CUNY First. \nRegister in advance for this meeting:\nhttps://us02web.zoom.us/meeting/register/tZ0qdeGgrjkpHtRLSH6YodalN_DlfF1-4jDC \nAfter registering\, you will receive a confirmation email containing information about joining the meeting. \n
URL:https://sph.cuny.edu/event/how-to-calculate-final-grades-using-blackboard-your-questions-answered-for-faculty/
LOCATION:Virtual (Online)
ORGANIZER;CN="Office%20of%20Online%20Learning":MAILTO:laura.ferrigon@sph.cuny.edu
END:VEVENT
END:VCALENDAR