BEGIN:VCALENDAR
VERSION:2.0
PRODID:-//CUNY Graduate School of Public Health &amp; Health Policy - ECPv4.9.9//NONSGML v1.0//EN
CALSCALE:GREGORIAN
METHOD:PUBLISH
X-ORIGINAL-URL:https://sph.cuny.edu
X-WR-CALDESC:Events for CUNY Graduate School of Public Health &amp; Health Policy
BEGIN:VTIMEZONE
TZID:America/New_York
BEGIN:DAYLIGHT
TZOFFSETFROM:-0500
TZOFFSETTO:-0400
TZNAME:EDT
DTSTART:20220313T070000
END:DAYLIGHT
BEGIN:STANDARD
TZOFFSETFROM:-0400
TZOFFSETTO:-0500
TZNAME:EST
DTSTART:20221106T060000
END:STANDARD
END:VTIMEZONE
BEGIN:VEVENT
DTSTART;TZID=America/New_York:20221019T170000
DTEND;TZID=America/New_York:20221019T180000
DTSTAMP:20260421T022036
CREATED:20220914T135150Z
LAST-MODIFIED:20220914T135150Z
UID:123529-1666198800-1666202400@sph.cuny.edu
SUMMARY:Healthy Boundary Setting Webinar
DESCRIPTION:Wednesdays at 5pm September 28th – November 2nd (except October 5th) \nThis webinar will provide participants with tools to set healthy boundaries for themselves and with others. The webinar will explore self-care decisions\, promote assertive communication\, and offer strategies for managing complicated interpersonal dynamics. Facilitator: Khadiza Akter \n
URL:https://sph.cuny.edu/event/healthy-boundary-setting-webinar-3/
LOCATION:Virtual (Online)
CATEGORIES:Students,Wellness
END:VEVENT
END:VCALENDAR