BEGIN:VCALENDAR
VERSION:2.0
PRODID:-//CUNY Graduate School of Public Health &amp; Health Policy - ECPv4.9.9//NONSGML v1.0//EN
CALSCALE:GREGORIAN
METHOD:PUBLISH
X-ORIGINAL-URL:https://sph.cuny.edu
X-WR-CALDESC:Events for CUNY Graduate School of Public Health &amp; Health Policy
BEGIN:VTIMEZONE
TZID:America/New_York
BEGIN:DAYLIGHT
TZOFFSETFROM:-0500
TZOFFSETTO:-0400
TZNAME:EDT
DTSTART:20210314T070000
END:DAYLIGHT
BEGIN:STANDARD
TZOFFSETFROM:-0400
TZOFFSETTO:-0500
TZNAME:EST
DTSTART:20211107T060000
END:STANDARD
END:VTIMEZONE
BEGIN:VEVENT
DTSTART;TZID=America/New_York:20210218T180000
DTEND;TZID=America/New_York:20210218T200000
DTSTAMP:20260421T200245
CREATED:20210127T175657Z
LAST-MODIFIED:20210127T175736Z
UID:73479-1613671200-1613678400@sph.cuny.edu
SUMMARY:Health Policy and Management Admissions Information Session
DESCRIPTION:The Department of Health Policy and Management aims to improve population health by enhancing access to care\, increasing efficiencies across health systems\, and eliminating disparities. \nOur faculty approach these aims by providing leadership and expertise in support of healthcare system innovation\, conducting analyses of the policies and economic realities underpinning healthcare systems\, and engaging in political advocacy. Faculty researchers are accomplished in a broad range of domains including global health care organization and delivery systems\, healthy aging across the life span\, economics and global health\, HIV policy and practice\, and substance use policy. \nIf you have any other questions regarding admissions\, please reach out to us! The fastest way to reach us is to email us at admissions@sph.cuny.edu. \n
URL:https://sph.cuny.edu/event/health-policy-and-management-information-session/
LOCATION:Virtual (Online)
CATEGORIES:Admissions
END:VEVENT
END:VCALENDAR