BEGIN:VCALENDAR
VERSION:2.0
PRODID:-//CUNY Graduate School of Public Health &amp; Health Policy - ECPv4.9.9//NONSGML v1.0//EN
CALSCALE:GREGORIAN
METHOD:PUBLISH
X-ORIGINAL-URL:https://sph.cuny.edu
X-WR-CALDESC:Events for CUNY Graduate School of Public Health &amp; Health Policy
BEGIN:VTIMEZONE
TZID:America/New_York
BEGIN:DAYLIGHT
TZOFFSETFROM:-0500
TZOFFSETTO:-0400
TZNAME:EDT
DTSTART:20250309T070000
END:DAYLIGHT
BEGIN:STANDARD
TZOFFSETFROM:-0400
TZOFFSETTO:-0500
TZNAME:EST
DTSTART:20251102T060000
END:STANDARD
END:VTIMEZONE
BEGIN:VEVENT
DTSTART;TZID=America/New_York:20250414T080000
DTEND;TZID=America/New_York:20250414T170000
DTSTAMP:20260421T144745
CREATED:20250415T003137Z
LAST-MODIFIED:20250415T003137Z
UID:153583-1744617600-1744650000@sph.cuny.edu
SUMMARY:Healing Voices Lecture Series
DESCRIPTION:CUNY School of Medicine Medical Library and CUNY Graduate School of Public Health Present: Healing Voices Lecture Series \nThis months topic will be “Mental health concerns\, resilience\, and quality of life among family caregivers of hospitalized lung cancer patients in a lower-middle income country” \nThe lecture will be presented by Think Than Vu\, CUNY SPH doctoral student \nThursday\, April 17. 1pm – 2pm \nRegister via Zoom \n
URL:https://sph.cuny.edu/event/healing-voices-lecture-series/
LOCATION:Virtual (Online)
CATEGORIES:Faculty and Staff,Lecture,Students
ATTACH;FMTTYPE=image/png:https://sph.cuny.edu/wp-content/uploads/2025/04/Thinh-Toan-Vu-Lecture-Portrait.png
ORGANIZER;CN="CUNY%20SPH%20Research%20Library":MAILTO:Library@sph.cuny.edu
END:VEVENT
END:VCALENDAR