BEGIN:VCALENDAR
VERSION:2.0
PRODID:-//CUNY Graduate School of Public Health &amp; Health Policy - ECPv4.9.9//NONSGML v1.0//EN
CALSCALE:GREGORIAN
METHOD:PUBLISH
X-ORIGINAL-URL:https://sph.cuny.edu
X-WR-CALDESC:Events for CUNY Graduate School of Public Health &amp; Health Policy
BEGIN:VTIMEZONE
TZID:America/New_York
BEGIN:DAYLIGHT
TZOFFSETFROM:-0500
TZOFFSETTO:-0400
TZNAME:EDT
DTSTART:20250309T070000
END:DAYLIGHT
BEGIN:STANDARD
TZOFFSETFROM:-0400
TZOFFSETTO:-0500
TZNAME:EST
DTSTART:20251102T060000
END:STANDARD
END:VTIMEZONE
BEGIN:VEVENT
DTSTART;TZID=America/New_York:20251022T133000
DTEND;TZID=America/New_York:20251022T153000
DTSTAMP:20260422T182847
CREATED:20251021T203015Z
LAST-MODIFIED:20251021T203015Z
UID:158046-1761139800-1761147000@sph.cuny.edu
SUMMARY:Governance Council
DESCRIPTION:The next Governance Council (GC) Meeting will be held in person on Wednesday\, October 22\, from 1:30pm – 3:30pm in the auditorium (room 708). This is an open meeting and all are welcome. \nPlease note: \nIn accordance with the CUNY Board of Trustees’ Policy 2.20\, which establishes attendance procedures for meetings subject to the open meetings law\, all such meetings must be conducted in person and thus\, the in-person attendance of the voting members of the Governance Council (GC) is required. There will be no virtual option provided for this meeting. \n
URL:https://sph.cuny.edu/event/governance-council/
LOCATION:CUNY SPH Auditorium (Room 708)\, 55 W. 125th Street\, New York\, NY\, 10027
CATEGORIES:Faculty and Staff,Students
ORGANIZER;CN="Dean%27s%20Office":MAILTO:info@sph.cuny.edu
END:VEVENT
END:VCALENDAR