BEGIN:VCALENDAR
VERSION:2.0
PRODID:-//CUNY Graduate School of Public Health &amp; Health Policy - ECPv4.9.9//NONSGML v1.0//EN
CALSCALE:GREGORIAN
METHOD:PUBLISH
X-ORIGINAL-URL:https://sph.cuny.edu
X-WR-CALDESC:Events for CUNY Graduate School of Public Health &amp; Health Policy
BEGIN:VTIMEZONE
TZID:America/New_York
BEGIN:DAYLIGHT
TZOFFSETFROM:-0500
TZOFFSETTO:-0400
TZNAME:EDT
DTSTART:20210314T070000
END:DAYLIGHT
BEGIN:STANDARD
TZOFFSETFROM:-0400
TZOFFSETTO:-0500
TZNAME:EST
DTSTART:20211107T060000
END:STANDARD
END:VTIMEZONE
BEGIN:VEVENT
DTSTART;TZID=America/New_York:20210324T093000
DTEND;TZID=America/New_York:20210324T110000
DTSTAMP:20260422T035710
CREATED:20210316T152040Z
LAST-MODIFIED:20210318T213902Z
UID:76246-1616578200-1616583600@sph.cuny.edu
SUMMARY:Food Forward NYC: Food Policy in New York City for the Next Decade and Steps toward Implementation
DESCRIPTION:In this Urban Food Policy Forum by the CUNY Urban Food Policy Institute\, key New York City food policy makers will present the City’s newly released first ever 10-Year Food Policy Plan “Food Forward NYC” and will be joined by fellow food policy leaders from other cities to reflect on the next steps in the plan implementation and key lessons from similar policies being implemented elsewhere. The goal is to identify meaningful strategies that can deepen and strengthen food governance throughout the plan implementation and help the city make progress in advancing the plan’s vision for a more racially and economically equitable\, sustainable\, and healthy food system for all New Yorkers. \nGuest speakers and contributors\n\nKate MacKenzie\, Director\, NYC Mayor’s Office of Food Policy\nMandu Sen\, Interim Deputy Director\, NYC Mayor’s Office of Food Policy\nDylaney Bouwman\, NYC Mayor’s Office of Food Policy\nHolly Freishtat\, Baltimore City Food Policy Director\, Food Policy & Planning Division\, Department of Planning\, City of Baltimore\nRonnell Hampton\, Policy Manager\, LA Food Policy Council\nDiana Johnson\, Health Research Specialist\, Toronto Food Strategy Team\, Toronto Public Health\, City of Toronto\n\nSpecial guest in the audience\n\n\nChristine Tran\, Executive Director\, LA Food Policy Council \n\n\nModerator\n\n\nCraig Willingham\, Deputy Director\, CUNY Urban Food Policy Institute \n\n\nMore Info. \n  \n
URL:https://sph.cuny.edu/event/food-forward-nyc/
LOCATION:Virtual (Online)
CATEGORIES:Center/Institute
ATTACH;FMTTYPE=image/jpeg:https://sph.cuny.edu/wp-content/uploads/2021/03/Banner_Event.jpg
ORGANIZER;CN="CUNY%20Urban%20Food%20Policy%20Institute":MAILTO:urbanfoodpolicy@sph.cuny.edu
END:VEVENT
END:VCALENDAR