BEGIN:VCALENDAR
VERSION:2.0
PRODID:-//CUNY Graduate School of Public Health &amp; Health Policy - ECPv4.9.9//NONSGML v1.0//EN
CALSCALE:GREGORIAN
METHOD:PUBLISH
X-ORIGINAL-URL:https://sph.cuny.edu
X-WR-CALDESC:Events for CUNY Graduate School of Public Health &amp; Health Policy
BEGIN:VTIMEZONE
TZID:America/New_York
BEGIN:DAYLIGHT
TZOFFSETFROM:-0500
TZOFFSETTO:-0400
TZNAME:EDT
DTSTART:20250309T070000
END:DAYLIGHT
BEGIN:STANDARD
TZOFFSETFROM:-0400
TZOFFSETTO:-0500
TZNAME:EST
DTSTART:20251102T060000
END:STANDARD
END:VTIMEZONE
BEGIN:VEVENT
DTSTART;TZID=America/New_York:20250224T170000
DTEND;TZID=America/New_York:20250224T180000
DTSTAMP:20260424T014756
CREATED:20250206T230349Z
LAST-MODIFIED:20250220T185401Z
UID:152129-1740416400-1740420000@sph.cuny.edu
SUMMARY:Finding Balance: Processing change and uncertainty
DESCRIPTION:Counseling and Wellness Services is hosting an online meetings for students to gather in a supportive\, inclusive space to reflect on their feelings during this time of societal change and transition. This event offers an opportunity to connect with peers\, share experiences\, and discuss ways to manage stress and uncertainty.  \nIn addition to providing a safe space for reflection and support\, this event will serve as a chance to meet the new Director of Counseling and Wellness Services\, Dr. Cesar León. He will share information about the resources available to you through Counseling and Wellness Services and answer questions about how the office can support student mental health and well-being throughout the semester.  \nWhether you’re looking for support\, community\, or a chance to learn about available services\, we invite all students to join us for these reflective discussions.   \nFacilitator:  Cesar Leon\, PhD (He/Him) \nQuestions? Email counseling@sph.cuny.edu \n
URL:https://sph.cuny.edu/event/finding-balance-processing-change-and-uncertainty/
LOCATION:Virtual (Online)
CATEGORIES:Wellness
ORGANIZER;CN="Counseling%20and%20Wellness%20Services":MAILTO:counseling@sph.cuny.edu
END:VEVENT
END:VCALENDAR