BEGIN:VCALENDAR
VERSION:2.0
PRODID:-//CUNY Graduate School of Public Health &amp; Health Policy - ECPv4.9.9//NONSGML v1.0//EN
CALSCALE:GREGORIAN
METHOD:PUBLISH
X-ORIGINAL-URL:https://sph.cuny.edu
X-WR-CALDESC:Events for CUNY Graduate School of Public Health &amp; Health Policy
BEGIN:VTIMEZONE
TZID:America/New_York
BEGIN:DAYLIGHT
TZOFFSETFROM:-0500
TZOFFSETTO:-0400
TZNAME:EDT
DTSTART:20200308T070000
END:DAYLIGHT
BEGIN:STANDARD
TZOFFSETFROM:-0400
TZOFFSETTO:-0500
TZNAME:EST
DTSTART:20201101T060000
END:STANDARD
END:VTIMEZONE
BEGIN:VEVENT
DTSTART;TZID=America/New_York:20201110T200000
DTEND;TZID=America/New_York:20201110T210000
DTSTAMP:20260421T000206
CREATED:20201107T022954Z
LAST-MODIFIED:20201107T022954Z
UID:70327-1605038400-1605042000@sph.cuny.edu
SUMMARY:Fieldwork Orientation Sessions
DESCRIPTION:Planning to enroll in fieldwork for Summer 2021? Your next step is to register to attend a fieldwork orientation and fill out the fieldwork pre-registration form (click on the orange “RSVP” button above). Because summer session is a shorter session\, it’s important to get started planning your field work as soon as possible! Orientation will take place on zoom and dates being offered are: \n\nTuesday\, November 10 | 8 – 9pm\nThursday\, November 12 | 5 – 6pm\nFriday\, November 20 | 12 – 1pm \nWednesday\, December 2 | 8 – 9pm \nMonday\, December 7 | 5 – 6pm\nWednesday\, January 27 | 8 – 9pm\n\n  \n
URL:https://sph.cuny.edu/event/fieldwork-orientation-sessions-11-10/
LOCATION:Virtual (Online)
CATEGORIES:Students
END:VEVENT
END:VCALENDAR