BEGIN:VCALENDAR
VERSION:2.0
PRODID:-//CUNY Graduate School of Public Health &amp; Health Policy - ECPv4.9.9//NONSGML v1.0//EN
CALSCALE:GREGORIAN
METHOD:PUBLISH
X-ORIGINAL-URL:https://sph.cuny.edu
X-WR-CALDESC:Events for CUNY Graduate School of Public Health &amp; Health Policy
BEGIN:VTIMEZONE
TZID:America/New_York
BEGIN:DAYLIGHT
TZOFFSETFROM:-0500
TZOFFSETTO:-0400
TZNAME:EDT
DTSTART:20230312T070000
END:DAYLIGHT
BEGIN:STANDARD
TZOFFSETFROM:-0400
TZOFFSETTO:-0500
TZNAME:EST
DTSTART:20231105T060000
END:STANDARD
END:VTIMEZONE
BEGIN:VEVENT
DTSTART;TZID=America/New_York:20230502T190000
DTEND;TZID=America/New_York:20230502T200000
DTSTAMP:20260419T163245
CREATED:20230322T014638Z
LAST-MODIFIED:20230322T014638Z
UID:127987-1683054000-1683057600@sph.cuny.edu
SUMMARY:Fieldwork Orientation Session
DESCRIPTION:This Office of Experiential Learning virtual event will offer a live overview of the Fieldwork Orientation deck for students who plan to take PUBH 696 or EPID 700. Attending a Live Fieldwork Orientation Session will satisfy the Fieldwork Orientation requirement necessary to register for PUBH 696 and EPID 700. \n
URL:https://sph.cuny.edu/event/fieldwork-orientation-session-13/
LOCATION:Virtual (Online)
CATEGORIES:Students
END:VEVENT
END:VCALENDAR