BEGIN:VCALENDAR
VERSION:2.0
PRODID:-//CUNY Graduate School of Public Health &amp; Health Policy - ECPv4.9.9//NONSGML v1.0//EN
CALSCALE:GREGORIAN
METHOD:PUBLISH
X-ORIGINAL-URL:https://sph.cuny.edu
X-WR-CALDESC:Events for CUNY Graduate School of Public Health &amp; Health Policy
BEGIN:VTIMEZONE
TZID:America/New_York
BEGIN:DAYLIGHT
TZOFFSETFROM:-0500
TZOFFSETTO:-0400
TZNAME:EDT
DTSTART:20230312T070000
END:DAYLIGHT
BEGIN:STANDARD
TZOFFSETFROM:-0400
TZOFFSETTO:-0500
TZNAME:EST
DTSTART:20231105T060000
END:STANDARD
END:VTIMEZONE
BEGIN:VEVENT
DTSTART;TZID=America/New_York:20230327T180000
DTEND;TZID=America/New_York:20230327T193000
DTSTAMP:20260420T081053
CREATED:20230302T172903Z
LAST-MODIFIED:20230315T232051Z
UID:125644-1679940000-1679945400@sph.cuny.edu
SUMMARY:Faith Based Conversations
DESCRIPTION:Join us on March 27th at 6pm for an informative and engaging webinar as we educate Harlem’s faith-based community members while discussing the benefits and impacts that cannabis legalization will have in Harlem. The event series aims to equip Harlem’s faith-based community with the knowledge to navigate the new landscape as they continue the work of revitalizing the health and well-being of the Harlem community. \nThe first 90-minute event will start with a speaker giving an overview of the history of cannabis prohibition in Harlem followed by an engaging panel discussion where questions from the faith-based community will be answered. After registering for the event be sure to leave any questions or comments you have for the panel. Don’t miss this opportunity to learn from experts and connect. Register today! \nFor more information please contact: District Manager Shatic Mitchell at shamitchell@cb.nyc.gov or (212)-749-3105 \n
URL:https://sph.cuny.edu/event/faith-based-conversations/
LOCATION:Virtual (Online)
ATTACH;FMTTYPE=image/png:https://sph.cuny.edu/wp-content/uploads/2023/03/FaithBasedConversations_Flyer_March-1.png
END:VEVENT
END:VCALENDAR