BEGIN:VCALENDAR
VERSION:2.0
PRODID:-//CUNY Graduate School of Public Health &amp; Health Policy - ECPv4.9.9//NONSGML v1.0//EN
CALSCALE:GREGORIAN
METHOD:PUBLISH
X-ORIGINAL-URL:https://sph.cuny.edu
X-WR-CALDESC:Events for CUNY Graduate School of Public Health &amp; Health Policy
BEGIN:VTIMEZONE
TZID:America/New_York
BEGIN:DAYLIGHT
TZOFFSETFROM:-0500
TZOFFSETTO:-0400
TZNAME:EDT
DTSTART:20230312T070000
END:DAYLIGHT
BEGIN:STANDARD
TZOFFSETFROM:-0400
TZOFFSETTO:-0500
TZNAME:EST
DTSTART:20231105T060000
END:STANDARD
END:VTIMEZONE
BEGIN:VEVENT
DTSTART;TZID=America/New_York:20230828T120000
DTEND;TZID=America/New_York:20230828T130000
DTSTAMP:20260421T204736
CREATED:20230809T001142Z
LAST-MODIFIED:20230809T001142Z
UID:130710-1693224000-1693227600@sph.cuny.edu
SUMMARY:Faculty drop-in office hours – Office of Accessibility Services
DESCRIPTION:While the Office of Accessibility Services’ primary charge is to support students\, it is also to support the faculty and adjunct faculty who are implementing students’ accommodations. \nPlease join Sara Ingram\, Director of the Office of Accessibility Services during drop-in office hours with your questions. \n
URL:https://sph.cuny.edu/event/faculty-drop-in-office-hours-office-of-accessibility-services/
LOCATION:Virtual (Online)
ORGANIZER;CN="Office%20of%20Accessibility%20Services":MAILTO:Accessibility@sph.cuny.edu
END:VEVENT
END:VCALENDAR